BEGIN:VCALENDAR
VERSION:2.0
PRODID:-//ChamberMaster//Event Calendar 2.0//EN
METHOD:PUBLISH
X-PUBLISHED-TTL:P3D
REFRESH-INTERVAL:P3D
CALSCALE:GREGORIAN
BEGIN:VEVENT
DTSTART:20130127T210000Z
DTEND:20130127T230000Z
X-MICROSOFT-CDO-ALLDAYEVENT:FALSE
SUMMARY:The Souls and Sounds of Gospel Music
DESCRIPTION:The University of South Carolina Gospel Choir under the direction of Dr. Carl Wells will perform a historical tour of gospel music from traditional to contemporary.   Scott Gibbs and the Beaufort County Mass Choir will open the show and join the Gospel Choir for a glorious finale.
X-ALT-DESC;FMTTYPE=text/html:<style type="text/css">\n<!--{cke_protected}{C}%3C!%2D%2D%0D%0A%20%2F*%20Font%20Definitions%20*%2F%0D%0A%40font-face%0D%0A%09%7Bfont-family%3A%22%26%2365325%3B%26%2365331%3B%20%26%2326126%3B%26%2326397%3B%22%3B%0D%0A%09mso-font-charset%3A78%3B%0D%0A%09mso-generic-font-family%3Aauto%3B%0D%0A%09mso-font-pitch%3Avariable%3B%0D%0A%09mso-font-signature%3A-536870145%201791491579%2018%200%20131231%200%3B%7D%0D%0A%40font-face%0D%0A%09%7Bfont-family%3A%22Cambria%20Math%22%3B%0D%0A%09panose-1%3A2%204%205%203%205%204%206%203%202%204%3B%0D%0A%09mso-font-charset%3A0%3B%0D%0A%09mso-generic-font-family%3Aauto%3B%0D%0A%09mso-font-pitch%3Avariable%3B%0D%0A%09mso-font-signature%3A-536870145%201107305727%200%200%20415%200%3B%7D%0D%0A%40font-face%0D%0A%09%7Bfont-family%3ACambria%3B%0D%0A%09panose-1%3A2%204%205%203%205%204%206%203%202%204%3B%0D%0A%09mso-font-charset%3A0%3B%0D%0A%09mso-generic-font-family%3Aauto%3B%0D%0A%09mso-font-pitch%3Avariable%3B%0D%0A%09mso-font-signature%3A-536870145%201073743103%200%200%20415%200%3B%7D%0D%0A%40font-face%0D%0A%09%7Bfont-family%3AGeorgia%3B%0D%0A%09panose-1%3A2%204%205%202%205%204%205%202%203%203%3B%0D%0A%09mso-font-charset%3A0%3B%0D%0A%09mso-generic-font-family%3Aauto%3B%0D%0A%09mso-font-pitch%3Avariable%3B%0D%0A%09mso-font-signature%3A3%200%200%200%201%200%3B%7D%0D%0A%20%2F*%20Style%20Definitions%20*%2F%0D%0Ap.MsoNormal%2C%20li.MsoNormal%2C%20div.MsoNormal%0D%0A%09%7Bmso-style-unhide%3Ano%3B%0D%0A%09mso-style-qformat%3Ayes%3B%0D%0A%09mso-style-parent%3A%22%22%3B%0D%0A%09margin%3A0in%3B%0D%0A%09margin-bottom%3A.0001pt%3B%0D%0A%09mso-pagination%3Awidow-orphan%3B%0D%0A%09font-size%3A12.0pt%3B%0D%0A%09font-family%3ACambria%3B%0D%0A%09mso-fareast-font-family%3A%22%26%2365325%3B%26%2365331%3B%20%26%2326126%3B%26%2326397%3B%22%3B%0D%0A%09mso-bidi-font-family%3A%22Times%20New%20Roman%22%3B%7D%0D%0A.MsoChpDefault%0D%0A%09%7Bmso-style-type%3Aexport-only%3B%0D%0A%09mso-default-props%3Ayes%3B%0D%0A%09font-size%3A10.0pt%3B%0D%0A%09mso-ansi-font-size%3A10.0pt%3B%0D%0A%09mso-bidi-font-size%3A10.0pt%3B%0D%0A%09font-family%3ACambria%3B%0D%0A%09mso-ascii-font-family%3ACambria%3B%0D%0A%09mso-fareast-font-family%3A%22%26%2365325%3B%26%2365331%3B%20%26%2326126%3B%26%2326397%3B%22%3B%0D%0A%09mso-hansi-font-family%3ACambria%3B%7D%0D%0A%20%2F*%20Page%20Definitions%20*%2F%0D%0A%40page%0D%0A%09%7Bmso-footnote-numbering-restart%3Aeach-section%3B%7D%0D%0A%40page%20WordSection1%0D%0A%09%7Bsize%3A8.5in%2011.0in%3B%0D%0A%09margin%3A1.0in%201.25in%201.0in%201.25in%3B%0D%0A%09mso-header-margin%3A.5in%3B%0D%0A%09mso-footer-margin%3A.5in%3B%0D%0A%09mso-paper-source%3A0%3B%7D%0D%0Adiv.WordSection1%0D%0A%09%7Bpage%3AWordSection1%3B%7D%0D%0A%2D%2D%3E--></style>\n<p class="MsoNormal">\n	<span style="font-family: georgia">The University of South Carolina Gospel Choir under the direction of Dr. Carl Wells will perform a historical tour of gospel music from traditional to contemporary.<span style="mso-spacerun: yes">&nbsp\;&nbsp\; </span>Scott Gibbs and the Beaufort County Mass Choir will open the show and join the Gospel Choir for a glorious finale. </span></p>\n
LOCATION:USCB Center for the Arts
UID:e.1212.4679
SEQUENCE:3
DTSTAMP:20260422T120056Z
URL:http://business.beaufortchamber.org/events/details/the-souls-and-sounds-of-gospel-music-01-27-2013-4679
END:VEVENT

END:VCALENDAR
