BEGIN:VCALENDAR
VERSION:2.0
PRODID:-//ChamberMaster//Event Calendar 2.0//EN
METHOD:PUBLISH
X-PUBLISHED-TTL:P3D
REFRESH-INTERVAL:P3D
CALSCALE:GREGORIAN
BEGIN:VEVENT
DTSTART:20120511T230000Z
DTEND:20120520T190000Z
X-MICROSOFT-CDO-ALLDAYEVENT:FALSE
SUMMARY:The Wonderful Wizard of OZ - Beaufort Children's Theatre
DESCRIPTION:The Beaufort Children's Theatre will present  "The Wonderful Wizard of Oz" based upon the timeless and exciting L. Frank Baum classic adventure story\, "The Wizard of Oz.' . The play's primary character\, Dorothy\, finds herself magically transported from a farm in Kansas to the strange and magical Land of Oz\, where she meets such iconic figures such as the Munchkins\, Wicked Witch of the North\, Wicked Witch of the West\, Scarecrow\, Tin Man\, Cowardly Lion and Wizard of Oz.
X-ALT-DESC;FMTTYPE=text/html:<style type="text/css">\n<!--{cke_protected}{C}%3C!%2D%2D%0A%20%2F*%20Font%20Definitions%20*%2F%0A%40font-face%0A%09%7Bfont-family%3A%22Cambria%20Math%22%3B%0A%09panose-1%3A2%204%205%203%205%204%206%203%202%204%3B%0A%09mso-font-charset%3A0%3B%0A%09mso-generic-font-family%3Aauto%3B%0A%09mso-font-pitch%3Avariable%3B%0A%09mso-font-signature%3A-536870145%201107305727%200%200%20415%200%3B%7D%0A%40font-face%0A%09%7Bfont-family%3ACambria%3B%0A%09panose-1%3A2%204%205%203%205%204%206%203%202%204%3B%0A%09mso-font-charset%3A0%3B%0A%09mso-generic-font-family%3Aauto%3B%0A%09mso-font-pitch%3Avariable%3B%0A%09mso-font-signature%3A-536870145%201073743103%200%200%20415%200%3B%7D%0A%20%2F*%20Style%20Definitions%20*%2F%0Ap.MsoNormal%2C%20li.MsoNormal%2C%20div.MsoNormal%0A%09%7Bmso-style-unhide%3Ano%3B%0A%09mso-style-qformat%3Ayes%3B%0A%09mso-style-parent%3A%22%22%3B%0A%09margin-top%3A0in%3B%0A%09margin-right%3A0in%3B%0A%09margin-bottom%3A10.0pt%3B%0A%09margin-left%3A0in%3B%0A%09mso-pagination%3Awidow-orphan%3B%0A%09font-size%3A12.0pt%3B%0A%09font-family%3ACambria%3B%0A%09mso-ascii-font-family%3ACambria%3B%0A%09mso-ascii-theme-font%3Aminor-latin%3B%0A%09mso-fareast-font-family%3ACambria%3B%0A%09mso-fareast-theme-font%3Aminor-latin%3B%0A%09mso-hansi-font-family%3ACambria%3B%0A%09mso-hansi-theme-font%3Aminor-latin%3B%0A%09mso-bidi-font-family%3A%22Times%20New%20Roman%22%3B%0A%09mso-bidi-theme-font%3Aminor-bidi%3B%7D%0A.MsoChpDefault%0A%09%7Bmso-style-type%3Aexport-only%3B%0A%09mso-default-props%3Ayes%3B%0A%09font-family%3ACambria%3B%0A%09mso-ascii-font-family%3ACambria%3B%0A%09mso-ascii-theme-font%3Aminor-latin%3B%0A%09mso-fareast-font-family%3A%22%26%2365325%3B%26%2365331%3B%20%26%2326126%3B%26%2326397%3B%22%3B%0A%09mso-fareast-theme-font%3Aminor-fareast%3B%0A%09mso-hansi-font-family%3ACambria%3B%0A%09mso-hansi-theme-font%3Aminor-latin%3B%0A%09mso-bidi-font-family%3A%22Times%20New%20Roman%22%3B%0A%09mso-bidi-theme-font%3Aminor-bidi%3B%7D%0A%40page%20WordSection1%0A%09%7Bsize%3A8.5in%2011.0in%3B%0A%09margin%3A1.0in%201.25in%201.0in%201.25in%3B%0A%09mso-header-margin%3A.5in%3B%0A%09mso-footer-margin%3A.5in%3B%0A%09mso-paper-source%3A0%3B%7D%0Adiv.WordSection1%0A%09%7Bpage%3AWordSection1%3B%7D%0A%2D%2D%3E--></style>\n<p class="MsoNormal" style="margin-left:.5in">\n	The Beaufort Children&rsquo\;s Theatre will present &nbsp\;&ldquo\;The Wonderful Wizard of Oz&rdquo\; based upon the timeless and exciting L. Frank Baum classic adventure story\, &ldquo\;The Wizard of Oz.&rsquo\; . The play&rsquo\;s primary character\, Dorothy\, finds herself magically transported from a farm in Kansas to the strange and magical Land of Oz\, where she meets such iconic figures such as the Munchkins\, Wicked Witch of the North\, Wicked Witch of the West\, Scarecrow\, Tin Man\, Cowardly Lion and Wizard of Oz.</p>\n<p class="MsoNormal" style="margin-left:.5in">\n	<span style="mso-spacerun:yes">&nbsp\; </span></p>\n
LOCATION:801 Carteret Street\, Beaufort SC 29902
UID:e.1212.4525
SEQUENCE:3
DTSTAMP:20260422T222057Z
URL:http://business.beaufortchamber.org/events/details/the-wonderful-wizard-of-oz-beaufort-children-s-theatre-05-11-2012-4525
END:VEVENT

END:VCALENDAR
