BEGIN:VCALENDAR
VERSION:2.0
PRODID:-//ChamberMaster//Event Calendar 2.0//EN
METHOD:PUBLISH
X-PUBLISHED-TTL:P3D
REFRESH-INTERVAL:P3D
CALSCALE:GREGORIAN
BEGIN:VEVENT
DTSTART:20121008T223000Z
DTEND:20121008T233000Z
X-MICROSOFT-CDO-ALLDAYEVENT:FALSE
SUMMARY:Theatre for Kids: Otherwise Know as Shelia the Great
DESCRIPTION:The University of South Carolina Center for the Arts proudly announces the return of PJ and Play with Judy Blume's classic story of "Otherwise know as Shelia the Great " on Monday\, October 8\, at 6:30 PM.\n\nBeing a 10 year old kid is kind of a pain\, having an older sister is really a pain\, being afraid of everything is well\, just plain painful. Shelia Tubman\, sometimes know as Shelia the Great come of age in this lively musical about discovery the person within. Award winning and popular author Judy Blume has created an unlikely but extremely likeable heroine in Shelia Tubman. Children and adults will fall in love with Shelia and her friends as she learns that her trials are\, unfortunately essential to growing up.\n\nP. J. and Play is a very popular theatre series for children three to twelve years of age. Please bring your child or children in pajamas\, all ready for bed. We hope this event will serve as their bedtime story--only with live characters and lots of entertainment. All participants will receive a cookie and a juice.
X-ALT-DESC;FMTTYPE=text/html:The University of South Carolina Center for the Arts proudly announces the return of PJ and Play with J<strong>udy Blume&#39\;s classic story of </strong>&quot\;<strong>Otherwise know as Shelia the Great &quot\;</strong> on Monday\, October 8\, at 6:30 PM.<br />\nBeing a 10 year old kid is kind of a pain\, having an older sister is really a pain\, being afraid of everything is&hellip\;well\, just plain painful. Shelia Tubman\, sometimes know as Shelia the Great come of age in this lively musical about discovery the person within. Award winning and popular author <strong>Judy Blume </strong>has created an unlikely but extremely likeable heroine in Shelia Tubman. Children and adults will fall in love with Shelia and her friends as she learns that her trials are\, unfortunately essential to growing up.<br />\nP. J. and Play is a very popular theatre series for children three to twelve years of age. Please bring your child or children in pajamas\, all ready for bed. We hope this event will serve as their bedtime story--only with live characters and lots of entertainment. All participants will receive a cookie and a juice.<br />\n
LOCATION:USCB Center for the Arts 801 Carteret Street\, Beaufort SC 29902
UID:e.1212.4599
SEQUENCE:3
DTSTAMP:20260422T163303Z
URL:http://business.beaufortchamber.org/events/details/theatre-for-kids-otherwise-know-as-shelia-the-great-10-08-2012-4599
END:VEVENT

END:VCALENDAR
