BEGIN:VCALENDAR
VERSION:2.0
PRODID:-//ChamberMaster//Event Calendar 2.0//EN
METHOD:PUBLISH
X-PUBLISHED-TTL:P3D
REFRESH-INTERVAL:P3D
CALSCALE:GREGORIAN
BEGIN:VEVENT
DTSTART;VALUE=DATE:20081208
DTEND;VALUE=DATE:20081209
TRANSP:TRANSPARENT
X-MICROSOFT-CDO-ALLDAYEVENT:TRUE
SUMMARY:Therapeutic Solutions Grand Opening
DESCRIPTION:We are expanding our services by the addition of "The Creating Wellness System".  This is a comprehensive wellness program designed to educate\, empower and enhance your health and well being.
X-ALT-DESC;FMTTYPE=text/html:We are expanding our services by the addition of "The Creating Wellness System".  This is a comprehensive wellness program designed to educate\, empower and enhance your health and well being.
LOCATION:
UID:e.1212.2849
SEQUENCE:3
DTSTAMP:20260425T152005Z
URL:http://business.beaufortchamber.org/events/details/therapeutic-solutions-grand-opening-12-08-2008-2849
END:VEVENT

END:VCALENDAR
