BEGIN:VCALENDAR
VERSION:2.0
PRODID:-//ChamberMaster//Event Calendar 2.0//EN
METHOD:PUBLISH
X-PUBLISHED-TTL:P3D
REFRESH-INTERVAL:P3D
CALSCALE:GREGORIAN
BEGIN:VEVENT
DTSTART:20130302T170000Z
DTEND:20130303T045500Z
X-MICROSOFT-CDO-ALLDAYEVENT:FALSE
SUMMARY:Third Annual A-Town Get Down Music & Arts Festival
DESCRIPTION:@font-face {\n  font-family: "Times New Roman"\;\n}@font-face {\n  font-family: "Arial"\;\n}@font-face {\n  font-family: "Verdana"\;\n}@font-face {\n  font-family: "Cambria"\;\n}@font-face {\n  font-family: "Avenir LT Std 55 Roman"\;\n}p.MsoNormal\, li.MsoNormal\, div.MsoNormal { margin: 0in 0in 0.0001pt\; font-size: 12pt\; font-family: Cambria\; }table.MsoNormalTable { font-size: 10pt\; font-family: "Times New Roman"\; }div.Section1 { page: Section1\; }\n\n	A-Town Get Down is a public music festival to honor the memory of Alex Townsend\, a junior at Savannah College of Art and Design who passed away in a car accident on Valentine's Day 2010. In his name\, Alex's friends and family use the A-Town Get Down to celebrate his love of Savannah\, music and the arts for hundreds of people each year. \n\n	 \n\n	In the spirit of celebrating the music and city that Townsend loved so much\, A-Town Get Down will feature Grammy Award-winning singer\, songwriter\, humorist and actor\, Loudon Wainwright III\, his highly accomplished sister\, Sloan Wainwright\, ever-popular local hip-hop group\, Word of Mouth\, Walter Parks and Swamp Cabbage\, Eric Culberson\, The Savannah Children's Choir\, Savannah Arts Eclipse Band and more. \n\n	 \n\n	Live Art Exhibitions include ceramics\, screen printing\, painting and urban art\, visiting stencil artist Peat Wollaeger\, children's art activities and electronic artists in the Adobe Arts Loft\, sponsored by Adobe.\n\n	\n\n	All net proceeds will go to art scholarship funds.
X-ALT-DESC;FMTTYPE=text/html:<style type="text/css">\n@font-face {\n  font-family: "Times New Roman"\;\n}@font-face {\n  font-family: "Arial"\;\n}@font-face {\n  font-family: "Verdana"\;\n}@font-face {\n  font-family: "Cambria"\;\n}@font-face {\n  font-family: "Avenir LT Std 55 Roman"\;\n}p.MsoNormal\, li.MsoNormal\, div.MsoNormal { margin: 0in 0in 0.0001pt\; font-size: 12pt\; font-family: Cambria\; }table.MsoNormalTable { font-size: 10pt\; font-family: "Times New Roman"\; }div.Section1 { page: Section1\; }</style>\n<p class="MsoNormal">\n	<span style="font-family: arial\;">A-Town Get Down is a public music festival to honor the memory of Alex Townsend\, a junior at Savannah College of Art and Design who passed away in a car accident on Valentine&rsquo\;s Day 2010. In his name\, Alex&rsquo\;s friends and family use the A-Town Get Down to celebrate his love of Savannah\, music and the arts for hundreds of people each year. </span></p>\n<p class="MsoNormal">\n	<span style="font-family: arial\;">&nbsp\;</span></p>\n<p class="MsoNormal">\n	<span style="font-family: arial\;">In the spirit of celebrating the music and city that Townsend loved so much\, A-Town Get Down will feature Grammy Award-winning singer\, songwriter\, humorist and actor\, Loudon Wainwright III\, his highly accomplished sister\, Sloan Wainwright\, ever-popular local hip-hop group\, Word of Mouth\, Walter Parks and Swamp Cabbage\, Eric Culberson\, The Savannah Children&rsquo\;s Choir\, Savannah Arts Eclipse Band and more. </span></p>\n<p class="MsoNormal">\n	<span style="font-family: arial\;">&nbsp\;</span></p>\n<p class="MsoNormal">\n	<span style="font-family: arial\;">Live Art Exhibitions include ceramics\, screen printing\, painting and urban art\, visiting stencil artist Peat Wollaeger\, children&#39\;s art activities and electronic artists in the Adobe Arts Loft\, sponsored by Adobe.</span></p>\n<p class="MsoNormal">\n	<br />\n	<span style="font-family: arial\;">All net proceeds will go to art scholarship funds.</span></p>\n
LOCATION:Charles H. Morris Center 10 E Broad Street Savannah\, GA 31401
UID:e.1212.4761
SEQUENCE:3
DTSTAMP:20260422T070144Z
URL:http://business.beaufortchamber.org/events/details/third-annual-a-town-get-down-music-arts-festival-03-02-2013-4761
END:VEVENT

END:VCALENDAR
