BEGIN:VCALENDAR
VERSION:2.0
PRODID:-//ChamberMaster//Event Calendar 2.0//EN
METHOD:PUBLISH
X-PUBLISHED-TTL:P3D
REFRESH-INTERVAL:P3D
CALSCALE:GREGORIAN
BEGIN:VEVENT
DTSTART;VALUE=DATE:20130713
DTEND;VALUE=DATE:20130714
TRANSP:TRANSPARENT
X-MICROSOFT-CDO-ALLDAYEVENT:TRUE
SUMMARY:Tidal Creek Concert for Moore\, Oklahoma
DESCRIPTION:Tidal Creek Fellowship\, a non-denominational church located on Ladys Island will be hosting a benefit concert for Moore\, Oklahoma.  The concert will be held July 12th & 13th doors open at 6:00 pm\, concert from 7:00 - 8:30 pm with concessions available.  Proceeds of the concert will go to benefit the children of Briarwood Elementary School in Moore\, Ok impacted by the recent storm devastation.\n\n\n\nAdmission is free - they hope to raise $5000
X-ALT-DESC;FMTTYPE=text/html:Tidal Creek Fellowship\, a non-denominational church located on Ladys Island will be hosting a benefit concert for Moore\, Oklahoma.&nbsp\; The concert will be held July 12th &amp\; 13th doors open at 6:00 pm\, concert from 7:00 - 8:30 pm with concessions available.&nbsp\; Proceeds of the concert will go to benefit the children of Briarwood Elementary School in Moore\, Ok impacted by the recent storm devastation.<br />\n<br />\nAdmission is free - they hope to raise $5000
LOCATION:
UID:e.1212.5037
SEQUENCE:3
DTSTAMP:20260421T232334Z
URL:http://business.beaufortchamber.org/events/details/tidal-creek-concert-for-moore-oklahoma-07-13-2013-5037
END:VEVENT

END:VCALENDAR
