BEGIN:VCALENDAR
VERSION:2.0
PRODID:-//ChamberMaster//Event Calendar 2.0//EN
METHOD:PUBLISH
X-PUBLISHED-TTL:P3D
REFRESH-INTERVAL:P3D
CALSCALE:GREGORIAN
BEGIN:VEVENT
DTSTART:20131027T120000Z
DTEND:20131027T160000Z
X-MICROSOFT-CDO-ALLDAYEVENT:FALSE
SUMMARY:Tidal Creek Fellowship Blood Drive
DESCRIPTION:Community blood drive by The Blood Alliance sponsored by Tidal Creek Fellowship Church
X-ALT-DESC;FMTTYPE=text/html:Community blood drive by The Blood Alliance sponsored by Tidal Creek Fellowship Church
LOCATION:Tidal Creek Fellowship Church 290 Brickyard Point Road S. Lady's Island
UID:e.1212.5115
SEQUENCE:3
DTSTAMP:20260421T182251Z
URL:http://business.beaufortchamber.org/events/details/tidal-creek-fellowship-blood-drive-10-27-2013-5115
END:VEVENT

END:VCALENDAR
