BEGIN:VCALENDAR
VERSION:2.0
PRODID:-//ChamberMaster//Event Calendar 2.0//EN
METHOD:PUBLISH
X-PUBLISHED-TTL:P3D
REFRESH-INTERVAL:P3D
CALSCALE:GREGORIAN
BEGIN:VEVENT
DTSTART:20120909T200000Z
DTEND:20120909T220000Z
X-MICROSOFT-CDO-ALLDAYEVENT:FALSE
SUMMARY:TO ROME WITH LOVE - Indie Film
DESCRIPTION:TO ROME WITH LOVE\n\nStarring Woody Allen\, Alec Baldwin\, Robert Benigni\, Penelope Cruz\, Judy Davis\, Jesse Eisenberg\, Greta Gerwig\, Ellen Page\n\n\n\n TO ROME WITH LOVE is a kaleidoscopic comedy set in one of the world's most enchanting cities. The film brings us into contact with a well-known American architect reliving his youth\; an average middle-class Roman who suddenly finds himself Rome's biggest celebrity\; a young provincial couple drawn into separate romantic encounters\; and an American opera director endeavoring to put a singing mortician on stage. While Rome is a city abundant with romance and comedy\, TO ROME WITH LOVE is about people having adventures that will change their lives forever.
X-ALT-DESC;FMTTYPE=text/html:<strong>TO ROME WITH LOV</strong>E<br />\n<em>Starring Woody Allen\, Alec Baldwin\, Robert Benigni\, Penelope Cruz\, Judy Davis\, Jesse Eisenberg\, Greta Gerwig\, Ellen Page</em><br />\n<br />\n<strong>&nbsp\;TO ROME WITH LOVE</strong> is a kaleidoscopic comedy set in one of the world&rsquo\;s most enchanting cities. The film brings us into contact with a well-known American architect reliving his youth\; an average middle-class Roman who suddenly finds himself Rome&rsquo\;s biggest celebrity\; a young provincial couple drawn into separate romantic encounters\; and an American opera director endeavoring to put a singing mortician on stage. While Rome is a city abundant with romance and comedy\, TO ROME WITH LOVE is about people having adventures that will change their lives forever.<br />\n
LOCATION:USCB Center for the Arts 801 Carteret Street\, Beaufort SC
UID:e.1212.4587
SEQUENCE:3
DTSTAMP:20260422T164344Z
URL:http://business.beaufortchamber.org/events/details/to-rome-with-love-indie-film-09-09-2012-4587
END:VEVENT

END:VCALENDAR
