BEGIN:VCALENDAR
VERSION:2.0
PRODID:-//ChamberMaster//Event Calendar 2.0//EN
METHOD:PUBLISH
X-PUBLISHED-TTL:P3D
REFRESH-INTERVAL:P3D
CALSCALE:GREGORIAN
BEGIN:VEVENT
DTSTART:20140108T013000Z
DTEND:20140108T023000Z
X-MICROSOFT-CDO-ALLDAYEVENT:FALSE
SUMMARY:Tourism Advisory Committee
DESCRIPTION:
X-ALT-DESC;FMTTYPE=text/html:
LOCATION:Arsenal Conference Room 713 Craven Street
UID:e.1212.5149
SEQUENCE:3
DTSTAMP:20260421T132416Z
URL:http://business.beaufortchamber.org/events/details/tourism-advisory-committee-01-07-2014-5149
END:VEVENT

END:VCALENDAR
