BEGIN:VCALENDAR
VERSION:2.0
PRODID:-//ChamberMaster//Event Calendar 2.0//EN
METHOD:PUBLISH
X-PUBLISHED-TTL:P3D
REFRESH-INTERVAL:P3D
CALSCALE:GREGORIAN
BEGIN:VEVENT
DTSTART:20111213T153000Z
DTEND:20111213T170000Z
X-MICROSOFT-CDO-ALLDAYEVENT:FALSE
SUMMARY:Tourism Industry Update Meeting
DESCRIPTION:See below for a finalized agenda:  \n\n\n	\n		Welcome\n	\n		Tourism Advisory Committee Introductions & Update\n	\n		Tourism Video Launch & Presentation\n	\n		Tourism Division Announcements & 2012 Plans\n	\n		2012 Visitors Guide Launch & Plans\, presented by guest Compass Media\n	\n		Tourism Advertising Opportunities - see what's new for 2012!\n	\n		Conference Center Findings Presentation\, presented by guest PKF Consulting
X-ALT-DESC;FMTTYPE=text/html:<span style="color:#3a4972\;"><span style="font-family:arial\,sans-serif\;"><span style="font-size:11.0pt\;">See below for a finalized agenda:&nbsp\;&nbsp\;</span></span></span><br />\n<ul>\n	<li style="color:#3A4972\;">\n		<span style="font-family:arial\,sans-serif\;"><span style="font-size:11.0pt\;">Welcome</span></span></li>\n	<li style="color:#3A4972\;">\n		<span style="font-family:arial\,sans-serif\;"><span style="font-size:11.0pt\;">Tourism Advisory Committee Introductions &amp\; Update</span></span></li>\n	<li style="color:#3A4972\;">\n		<span style="font-family:arial\,sans-serif\;"><span style="font-size:11.0pt\;">Tourism Video Launch &amp\; Presentation</span></span></li>\n	<li style="color:#3A4972\;">\n		<span style="font-family:arial\,sans-serif\;"><span style="font-size:11.0pt\;">Tourism Division Announcements &amp\; 2012 Plans</span></span></li>\n	<li style="color:#3A4972\;">\n		<span style="font-family:arial\,sans-serif\;"><span style="font-size:11.0pt\;">2012 Visitors Guide Launch &amp\; Plans\, presented by guest Compass Media</span></span></li>\n	<li style="color:#3A4972\;">\n		<span style="font-family:arial\,sans-serif\;"><span style="font-size:11.0pt\;">Tourism Advertising Opportunities - see what&#39\;s new for 2012!</span></span></li>\n	<li style="color:#3A4972\;">\n		<span style="font-family:arial\,sans-serif\;"><span style="font-size:11.0pt\;">Conference Center Findings Presentation\, presented by guest PKF Consulting</span></span></li>\n</ul>\n
LOCATION:Historic Beaufort Arsenal 713 Craven Street\, Downtown Beaufort
UID:e.1212.4354
SEQUENCE:3
DTSTAMP:20260423T072821Z
URL:http://business.beaufortchamber.org/events/details/tourism-industry-update-meeting-12-13-2011-4354
END:VEVENT

END:VCALENDAR
