BEGIN:VCALENDAR
VERSION:2.0
PRODID:-//ChamberMaster//Event Calendar 2.0//EN
METHOD:PUBLISH
X-PUBLISHED-TTL:P3D
REFRESH-INTERVAL:P3D
CALSCALE:GREGORIAN
BEGIN:VEVENT
DTSTART;VALUE=DATE:20090704
DTEND;VALUE=DATE:20090705
TRANSP:TRANSPARENT
X-MICROSOFT-CDO-ALLDAYEVENT:TRUE
SUMMARY:Town of Port Royal - Annual July 4th Fireworks Show
DESCRIPTION:Festivities at the beach will include music\, food and drink provided by Historic Port Royal Foundation. Fireworks starts at dusk.   So bring your chairs/blankets and enjoy two shows in one location as you can also view the show on Parris Island as well.   The road to the Sands will be closed all day.  Food and drinks are not permitted to be brought on to the beach.  So come out to the Farmers Market\, stay around for lunch and then enjoy a fun evening with family and friends !  Parking is not permitted on the Parris Island bridge or the grassy area next to it.
X-ALT-DESC;FMTTYPE=text/html:Festivities at the beach will include music\, food and drink provided by Historic Port Royal Foundation. Fireworks starts at dusk.   So bring your chairs/blankets and enjoy two shows in one location as you can also view the show on Parris Island as well.   The road to the Sands will be closed all day.  Food and drinks are not permitted to be brought on to the beach.  So come out to the Farmers Market\, stay around for lunch and then enjoy a fun evening with family and friends !  Parking is not permitted on the Parris Island bridge or the grassy area next to it.
LOCATION:
UID:e.1212.3348
SEQUENCE:3
DTSTAMP:20260425T025242Z
URL:http://business.beaufortchamber.org/events/details/town-of-port-royal-annual-july-4th-fireworks-show-07-04-2009-3348
END:VEVENT

END:VCALENDAR
