BEGIN:VCALENDAR
VERSION:2.0
PRODID:-//ChamberMaster//Event Calendar 2.0//EN
METHOD:PUBLISH
X-PUBLISHED-TTL:P3D
REFRESH-INTERVAL:P3D
CALSCALE:GREGORIAN
BEGIN:VEVENT
DTSTART;VALUE=DATE:20090815
DTEND;VALUE=DATE:20090816
TRANSP:TRANSPARENT
X-MICROSOFT-CDO-ALLDAYEVENT:TRUE
SUMMARY:Town of Port Royal presents Street Music on Paris Avenue - Dwayne Dopsie & the Zydeco Hellraisers
DESCRIPTION:Produced by the Arts Council of Beaufort County.  Dwayne grew up in Louisiana and started playing the washboard at the age of four\, soon after the accordion\, to follow in his father's footsteps.  Some of the tv channels he has played for are CBS This Morning\, The Travel Channel\, Discovery\, 20/20\, and Good Morning America.  He has also been featured in Rolling Stones Magazine and at the New Orleans Jazz Festival.  So bring your chair\, blanket\, snacks/beverages and enjoy the music.  Cost: Free.
X-ALT-DESC;FMTTYPE=text/html:Produced by the Arts Council of Beaufort County.  Dwayne grew up in Louisiana and started playing the washboard at the age of four\, soon after the accordion\, to follow in his father's footsteps.  Some of the tv channels he has played for are CBS This Morning\, The Travel Channel\, Discovery\, 20/20\, and Good Morning America.  He has also been featured in Rolling Stones Magazine and at the New Orleans Jazz Festival.  So bring your chair\, blanket\, snacks/beverages and enjoy the music.  Cost: Free.
LOCATION:
UID:e.1212.3446
SEQUENCE:3
DTSTAMP:20260425T011134Z
URL:http://business.beaufortchamber.org/events/details/town-of-port-royal-presents-street-music-on-paris-avenue-dwayne-dopsie-the-zydeco-hellraisers-08-15-2009-3446
END:VEVENT

END:VCALENDAR
