BEGIN:VCALENDAR
VERSION:2.0
PRODID:-//ChamberMaster//Event Calendar 2.0//EN
METHOD:PUBLISH
X-PUBLISHED-TTL:P3D
REFRESH-INTERVAL:P3D
CALSCALE:GREGORIAN
BEGIN:VEVENT
DTSTART;VALUE=DATE:20090829
DTEND;VALUE=DATE:20090830
TRANSP:TRANSPARENT
X-MICROSOFT-CDO-ALLDAYEVENT:TRUE
SUMMARY:Town of Port Royal presents Street Music on Paris Avenue - The Modern Society
DESCRIPTION:Produced by the Arts Council of Beaufort County.  This band formed over 3 years ago and came together like a big bang at the right place and time.  After recording 5 demos and sharing them on line\, they booked their first show.  By the third show\, they were nominated for several Atlanta Music Guide awards.  Shortly thereafter\, they recorded their debut album\, "The Beat Goes On".  So bring your chair\, blanket\, snacks/beverages and enjoy the music.  Cost: Free.
X-ALT-DESC;FMTTYPE=text/html:Produced by the Arts Council of Beaufort County.  This band formed over 3 years ago and came together like a big bang at the right place and time.  After recording 5 demos and sharing them on line\, they booked their first show.  By the third show\, they were nominated for several Atlanta Music Guide awards.  Shortly thereafter\, they recorded their debut album\, "The Beat Goes On".  So bring your chair\, blanket\, snacks/beverages and enjoy the music.  Cost: Free.
LOCATION:
UID:e.1212.3447
SEQUENCE:3
DTSTAMP:20260425T011035Z
URL:http://business.beaufortchamber.org/events/details/town-of-port-royal-presents-street-music-on-paris-avenue-the-modern-society-08-29-2009-3447
END:VEVENT

END:VCALENDAR
