BEGIN:VCALENDAR
VERSION:2.0
PRODID:-//ChamberMaster//Event Calendar 2.0//EN
METHOD:PUBLISH
X-PUBLISHED-TTL:P3D
REFRESH-INTERVAL:P3D
CALSCALE:GREGORIAN
BEGIN:VEVENT
DTSTART;VALUE=DATE:20090905
DTEND;VALUE=DATE:20090906
TRANSP:TRANSPARENT
X-MICROSOFT-CDO-ALLDAYEVENT:TRUE
SUMMARY:Town of Port Royal presents Street Music on Paris Avenue - The Phantom Sheiks
DESCRIPTION:Produced by the Arts Council of Beaufort County.  Officially born in the fall of 2007\, Davis Inman and Kirk McAlpin have shared a tune or two over the last 15 years.  After arriving in the hills of NC they began to synthesize their love of classic radio tunes with their skills.   Armed with guitar\, fiddle\, mandolin and dobro these Georgia boys will set your feet a tappin'.  So bring your chair\, blanket\, snacks/beverages and enjoy the music.  Cost: Free.
X-ALT-DESC;FMTTYPE=text/html:Produced by the Arts Council of Beaufort County.  Officially born in the fall of 2007\, Davis Inman and Kirk McAlpin have shared a tune or two over the last 15 years.  After arriving in the hills of NC they began to synthesize their love of classic radio tunes with their skills.   Armed with guitar\, fiddle\, mandolin and dobro these Georgia boys will set your feet a tappin'.  So bring your chair\, blanket\, snacks/beverages and enjoy the music.  Cost: Free.
LOCATION:
UID:e.1212.3448
SEQUENCE:3
DTSTAMP:20260425T011035Z
URL:http://business.beaufortchamber.org/events/details/town-of-port-royal-presents-street-music-on-paris-avenue-the-phantom-sheiks-09-05-2009-3448
END:VEVENT

END:VCALENDAR
