BEGIN:VCALENDAR
VERSION:2.0
PRODID:-//ChamberMaster//Event Calendar 2.0//EN
METHOD:PUBLISH
X-PUBLISHED-TTL:P3D
REFRESH-INTERVAL:P3D
CALSCALE:GREGORIAN
BEGIN:VEVENT
DTSTART;VALUE=DATE:20091206
DTEND;VALUE=DATE:20091207
TRANSP:TRANSPARENT
X-MICROSOFT-CDO-ALLDAYEVENT:TRUE
SUMMARY:Traditional Christmas Parade
DESCRIPTION:Contact Main Street Beaufort.  Details TBA
X-ALT-DESC;FMTTYPE=text/html:Contact Main Street Beaufort.  Details TBA
LOCATION:
UID:e.1212.2637
SEQUENCE:3
DTSTAMP:20260424T193542Z
URL:http://business.beaufortchamber.org/events/details/traditional-christmas-parade-12-06-2009-2637
END:VEVENT

END:VCALENDAR
