BEGIN:VCALENDAR
VERSION:2.0
PRODID:-//ChamberMaster//Event Calendar 2.0//EN
METHOD:PUBLISH
X-PUBLISHED-TTL:P3D
REFRESH-INTERVAL:P3D
CALSCALE:GREGORIAN
BEGIN:VEVENT
DTSTART:20111027T210000Z
DTEND:20111028T010000Z
X-MICROSOFT-CDO-ALLDAYEVENT:FALSE
SUMMARY:Trick or Treat and Movie in the Park "BEETLEJUICE" - Main Street Beaufort
DESCRIPTION:Dress the kiddies in their best Halloween costumes and bring them downtown Beaufort for some great goodies to put in their favorite treat bag.  Then bring them and their goodies along with your chair/blanket and join us in the Waterfront Park for a free movie
X-ALT-DESC;FMTTYPE=text/html:<p>\n	Dress the kiddies in their best Halloween costumes and bring them downtown Beaufort for some great goodies to put in their favorite treat bag.&nbsp\; Then bring them and their goodies along with your chair/blanket and join us in the Waterfront Park for a free movie</p>\n
LOCATION:Downtown Beaufort Waterfront Park Beaufort\, SC 29902
UID:e.1212.4315
SEQUENCE:3
DTSTAMP:20260423T092756Z
URL:http://business.beaufortchamber.org/events/details/trick-or-treat-and-movie-in-the-park-beetlejuice-main-street-beaufort-10-27-2011-4315
END:VEVENT

END:VCALENDAR
