BEGIN:VCALENDAR
VERSION:2.0
PRODID:-//ChamberMaster//Event Calendar 2.0//EN
METHOD:PUBLISH
X-PUBLISHED-TTL:P3D
REFRESH-INTERVAL:P3D
CALSCALE:GREGORIAN
BEGIN:VEVENT
DTSTART:20121025T210000Z
DTEND:20121025T223000Z
X-MICROSOFT-CDO-ALLDAYEVENT:FALSE
SUMMARY:Trick or Treat in Downtown Beaufort
DESCRIPTION:Bay Street & Beyond\n\nPresented by\n\nMain Street Beaufort\, USA\,\n\nCo-sponsored by The Beaufort Police Department\n\nand the merchants of Downtown Beaufort.
X-ALT-DESC;FMTTYPE=text/html:Bay Street &amp\; Beyond<br />\nPresented by<br />\nMain Street Beaufort\, USA\,<br />\nCo-sponsored by The Beaufort Police Department<br />\nand the merchants of Downtown Beaufort.
LOCATION:
UID:e.1212.4559
SEQUENCE:3
DTSTAMP:20260422T151040Z
URL:http://business.beaufortchamber.org/events/details/trick-or-treat-in-downtown-beaufort-10-25-2012-4559
END:VEVENT

END:VCALENDAR
