BEGIN:VCALENDAR
VERSION:2.0
PRODID:-//ChamberMaster//Event Calendar 2.0//EN
METHOD:PUBLISH
X-PUBLISHED-TTL:P3D
REFRESH-INTERVAL:P3D
CALSCALE:GREGORIAN
BEGIN:VEVENT
DTSTART;VALUE=DATE:20120309
DTEND;VALUE=DATE:20120313
TRANSP:TRANSPARENT
X-MICROSOFT-CDO-ALLDAYEVENT:TRUE
SUMMARY:United States Power Squadron District 26 Spring Conference
DESCRIPTION:Beaufort Sail & Power Squadron is hosting the USPS District 26 Spring Conference at the Quality Inn of Beaufort.  District 26 is comprised of 13 squadron of South Carolina and the coast of Georgia.  We currently have over 1500 members.\n\nThe Conference will have hands on seminars for its members on Database 2000\, Vessel Safety Check\, Co-operative Charting and Boat Operator Certification.
X-ALT-DESC;FMTTYPE=text/html:Beaufort Sail &amp\; Power Squadron is hosting the USPS District 26 Spring Conference at the Quality Inn of Beaufort.&nbsp\; District 26 is comprised of 13 squadron of South Carolina and the coast of Georgia.&nbsp\; We currently have over 1500 members.<br />\nThe Conference will have hands on seminars for its members&nbsp\;on Database 2000\, Vessel Safety Check\, Co-operative Charting and Boat Operator Certification.
LOCATION:Quality Inn of Beaufort
UID:e.1212.4507
SEQUENCE:3
DTSTAMP:20260423T011220Z
URL:http://business.beaufortchamber.org/events/details/united-states-power-squadron-district-26-spring-conference-03-09-2012-4507
END:VEVENT

END:VCALENDAR
