BEGIN:VCALENDAR
VERSION:2.0
PRODID:-//ChamberMaster//Event Calendar 2.0//EN
METHOD:PUBLISH
X-PUBLISHED-TTL:P3D
REFRESH-INTERVAL:P3D
CALSCALE:GREGORIAN
BEGIN:VEVENT
DTSTART:20130919T200000Z
DTEND:20130919T220000Z
X-MICROSOFT-CDO-ALLDAYEVENT:FALSE
SUMMARY:United Way Campaign Kickoff
DESCRIPTION:United Way of the Lowcountry's 2013 Campaign Kickoff featuring live music by Fripp Island's Dan McCormick and singer/songwriter Karen Taylor-Good. Light hors d'oeuvres and cash bar.
X-ALT-DESC;FMTTYPE=text/html:United Way of the Lowcountry&#39\;s 2013 Campaign Kickoff featuring live music by Fripp Island&#39\;s Dan McCormick and singer/songwriter Karen Taylor-Good. Light hors d&#39\;oeuvres and cash bar.
LOCATION:Oaks Ballroom\, Palmetto Bluff Inn 476 Mount Pelia Road\, Bluffton
UID:e.1212.5099
SEQUENCE:3
DTSTAMP:20260421T200644Z
URL:http://business.beaufortchamber.org/events/details/united-way-campaign-kickoff-09-19-2013-5099
END:VEVENT

END:VCALENDAR
