BEGIN:VCALENDAR
VERSION:2.0
PRODID:-//ChamberMaster//Event Calendar 2.0//EN
METHOD:PUBLISH
X-PUBLISHED-TTL:P3D
REFRESH-INTERVAL:P3D
CALSCALE:GREGORIAN
BEGIN:VEVENT
DTSTART:20130406T233000Z
DTEND:20130407T013000Z
X-MICROSOFT-CDO-ALLDAYEVENT:FALSE
SUMMARY:USCB Center for the Arts presents hilarious British farce - NOISES OFF
DESCRIPTION:USCB Center for the Arts in Beaufort will present the Beaufort Theatre production of "Noises Off" on April 6 and 7\, and again on April 12\, 13 and 14.\n\n	 \n\n	"Noises Off" is a classic British farce written by Michael Frayn and opened in London in 1982.  Since then it has been entertaining audiences all over the world and is\, as reviewed in the New York Times\, "A spectacularly funny\, peerless backstage farce.  This dizzy\, well-known romp is a festival of delirium."\n\n	 \n\n	Gail Westerfield directs the manic menagerie of itinerant actors rehearsing a dismal flop of a play called "Nothing's On."  There is a love triangle which leads to deteriorating personal relationships among the cast and causes offstage chaos and onstage bedlam.  The title of the play is taken from theatrical stage direction which means "sounds that originate offstage."\n\n	 \n\n	Performances begin at USCB Center for the Arts Theatre at 801 Carteret Street on Saturday and Sunday\, April 6 and 7\, and again the following weekend on Friday\, Saturday and Sunday\, April 12\, 13 and 14. Friday and Saturday curtains are at 7:30 p.m.\, Sundays at 3:00 p.m.  Reserve seats $20\; Adults $18\; Seniors $15.  Call the Box Office between 10 and 3 weekdays\, 843-521-4145.
X-ALT-DESC;FMTTYPE=text/html:<style type="text/css">\n<!--\n /* Font Definitions */\n@font-face\n	{font-family:"Cambria Math"\;\n	panose-1:2 4 5 3 5 4 6 3 2 4\;\n	mso-font-charset:0\;\n	mso-generic-font-family:auto\;\n	mso-font-pitch:variable\;\n	mso-font-signature:-536870145 1107305727 0 0 415 0\;}\n /* Style Definitions */\np.MsoNormal\, li.MsoNormal\, div.MsoNormal\n	{mso-style-unhide:no\;\n	mso-style-qformat:yes\;\n	mso-style-parent:""\;\n	margin:0in\;\n	margin-bottom:.0001pt\;\n	mso-pagination:widow-orphan\;\n	font-size:12.0pt\;\n	font-family:"Times New Roman"\;\n	mso-fareast-font-family:"Times New Roman"\;}\n.MsoChpDefault\n	{mso-style-type:export-only\;\n	mso-default-props:yes\;\n	font-size:10.0pt\;\n	mso-ansi-font-size:10.0pt\;\n	mso-bidi-font-size:10.0pt\;}\n@page WordSection1\n	{size:8.5in 11.0in\;\n	margin:1.0in 1.25in 1.0in 1.25in\;\n	mso-header-margin:.5in\;\n	mso-footer-margin:.5in\;\n	mso-paper-source:0\;}\ndiv.WordSection1\n	{page:WordSection1\;}\n--></style>\n<p class="MsoNormal" style="margin: 0in 63pt 0pt 0.75in\;">\n	&nbsp\;</p>\n<p class="MsoNormal" style="margin: 0in 63pt 0pt 0.75in\;">\n	USCB Center for the Arts in Beaufort will present the Beaufort Theatre production of &ldquo\;Noises Off&rdquo\; on April 6 and 7\, and again on April 12\, 13 and 14.</p>\n<p class="MsoNormal" style="margin: 0in 63pt 0pt 0.75in\;">\n	&nbsp\;</p>\n<p class="MsoNormal" style="margin: 0in 63pt 0pt 0.75in\;">\n	&ldquo\;Noises Off&rdquo\; is a classic British farce written by Michael Frayn and opened in London in 1982. <span style="mso-spacerun: yes\;">&nbsp\;</span>Since then it has been entertaining audiences all over the world and is\, as reviewed in the New York Times\, &ldquo\;A spectacularly funny\, peerless backstage farce.<span style="mso-spacerun: yes\;">&nbsp\; </span>This dizzy\, well-known romp is a festival of delirium.&rdquo\;</p>\n<p class="MsoNormal" style="margin: 0in 63pt 0pt 0.75in\;">\n	&nbsp\;</p>\n<p class="MsoNormal" style="margin: 0in 63pt 0pt 0.75in\;">\n	Gail Westerfield directs the manic menagerie of itinerant actors rehearsing a dismal flop of a play called &ldquo\;Nothing&rsquo\;s On.&rdquo\;<span style="mso-spacerun: yes\;">&nbsp\; </span>There is a love triangle which leads to deteriorating personal relationships among the cast and causes offstage chaos and onstage bedlam.<span style="mso-spacerun: yes\;">&nbsp\; </span>The title of the play is taken from theatrical stage direction which means &ldquo\;sounds that originate offstage.&rdquo\;</p>\n<p class="MsoNormal" style="margin: 0in 63pt 0pt 0.75in\;">\n	&nbsp\;</p>\n<p class="MsoNormal" style="margin: 0in 63pt 0pt 0.75in\;">\n	Performances begin at USCB Center for the Arts Theatre at 801 Carteret Street on Saturday and Sunday\, April 6 and 7\, and again the following weekend on Friday\, Saturday and Sunday\, April 12\, 13 and 14. Friday and Saturday curtains are at 7:30 p.m.\, Sundays at 3:00 p.m.<span style="mso-spacerun: yes\;">&nbsp\; </span>Reserve seats $20\; Adults $18\; Seniors $15.<span style="mso-spacerun: yes\;">&nbsp\; </span>Call the Box Office between 10 and 3 weekdays\, 843-521-4145. <span style="mso-spacerun: yes\;">&nbsp\;&nbsp\;</span></p>\n
LOCATION:801 CARTERET STREET BEAUFORT SC 29902
UID:e.1212.4943
SEQUENCE:3
DTSTAMP:20260422T070038Z
URL:http://business.beaufortchamber.org/events/details/uscb-center-for-the-arts-presents-hilarious-british-farce-noises-off-04-06-2013-4943
END:VEVENT

END:VCALENDAR
