BEGIN:VCALENDAR
VERSION:2.0
PRODID:-//ChamberMaster//Event Calendar 2.0//EN
METHOD:PUBLISH
X-PUBLISHED-TTL:P3D
REFRESH-INTERVAL:P3D
CALSCALE:GREGORIAN
BEGIN:VEVENT
DTSTART:20130413T233000Z
DTEND:20130414T013000Z
X-MICROSOFT-CDO-ALLDAYEVENT:FALSE
SUMMARY:USCB Center for the Arts presents hilarious British farce - NOISES OFF
DESCRIPTION:USCB Center for the Arts presents hilarious British farce - NOISES OFF\n\n	Date: April 6\, 2013 - April 14\, 2013\n\n	http://www.uscbcenterforthearts.com\n\n	Event Description\n\n	USCB Center for the Arts in Beaufort will present the Beaufort Theatre production of "Noises Off" on April 6 and 7\, and again on April 12\, 13 and 14.\n\n	\n\n	"Noises Off" is a classic British farce written by Michael Frayn and opened in London in 1982. Since then it has been entertaining audiences all over the world and is\, as reviewed in the New York Times\, "A spectacularly funny\, peerless backstage farce. This dizzy\, well-known romp is a festival of delirium."\n\n	\n\n	Gail Westerfield directs the manic menagerie of itinerant actors rehearsing a dismal flop of a play called "Nothing's On." There is a love triangle which leads to deteriorating personal relationships among the cast and causes offstage chaos and onstage bedlam. The title of the play is taken from theatrical stage direction which means "sounds that originate offstage."\n\n	\n\n	Performances begin at USCB Center for the Arts Theatre at 801 Carteret Street on Saturday and Sunday\, April 6 and 7\, and again the following weekend on Friday\, Saturday and Sunday\, April 12\, 13 and 14. Friday and Saturday curtains are at 7:30 p.m.\, Sundays at 3:00 p.m. Reserve seats $20\; Adults $18\; Seniors $15. Call the Box Office between 10 and 3 weekdays\, 843-521-4145.
X-ALT-DESC;FMTTYPE=text/html:<h3>\n	USCB Center for the Arts presents hilarious British farce - NOISES OFF</h3>\n<div id="cm_events_event_date">\n	<strong>Date:</strong> April 6\, 2013 - April 14\, 2013</div>\n<div id="cm_events_event_url">\n	<a href="http://www.uscbcenterforthearts.com/" target="_blank">http://www.uscbcenterforthearts.com</a></div>\n<div id="cm_events_description">\n	<strong>Event Description</strong><br />\n	USCB Center for the Arts in Beaufort will present the Beaufort Theatre production of &ldquo\;Noises Off&rdquo\; on April 6 and 7\, and again on April 12\, 13 and 14.<br />\n	<br />\n	&ldquo\;Noises Off&rdquo\; is a classic British farce written by Michael Frayn and opened in London in 1982. Since then it has been entertaining audiences all over the world and is\, as reviewed in the New York Times\, &ldquo\;A spectacularly funny\, peerless backstage farce. This dizzy\, well-known romp is a festival of delirium.&rdquo\;<br />\n	<br />\n	Gail Westerfield directs the manic menagerie of itinerant actors rehearsing a dismal flop of a play called &ldquo\;Nothing&rsquo\;s On.&rdquo\; There is a love triangle which leads to deteriorating personal relationships among the cast and causes offstage chaos and onstage bedlam. The title of the play is taken from theatrical stage direction which means &ldquo\;sounds that originate offstage.&rdquo\;<br />\n	<br />\n	Performances begin at USCB Center for the Arts Theatre at 801 Carteret Street on Saturday and Sunday\, April 6 and 7\, and again the following weekend on Friday\, Saturday and Sunday\, April 12\, 13 and 14. Friday and Saturday curtains are at 7:30 p.m.\, Sundays at 3:00 p.m. Reserve seats $20\; Adults $18\; Seniors $15. Call the Box Office between 10 and 3 weekdays\, 843-521-4145.</div>\n
LOCATION:
UID:e.1212.4953
SEQUENCE:3
DTSTAMP:20260422T051006Z
URL:http://business.beaufortchamber.org/events/details/uscb-center-for-the-arts-presents-hilarious-british-farce-noises-off-04-13-2013-4953
END:VEVENT

END:VCALENDAR
