BEGIN:VCALENDAR
VERSION:2.0
PRODID:-//ChamberMaster//Event Calendar 2.0//EN
METHOD:PUBLISH
X-PUBLISHED-TTL:P3D
REFRESH-INTERVAL:P3D
CALSCALE:GREGORIAN
BEGIN:VEVENT
DTSTART;VALUE=DATE:20091119
DTEND;VALUE=DATE:20091120
TRANSP:TRANSPARENT
X-MICROSOFT-CDO-ALLDAYEVENT:TRUE
SUMMARY:USCB Executive Speaker Series - Guest Speaker
DESCRIPTION:Speaker: Author Mark Danner\, Professor of Journalism \, University of California and Berkeley and Henry R. Luce\, Professor of Human Rights and Journalism\, Bard College\nIn 2009 he was able to obtain a copy of the International Committee of the Red Cross's secret report on the American military's use of torture and publised it in the New York Review of Books.\nHe is the author of Torture and Truth: America Abu Ghraib and the War on Terror.\nCost: Call for reservations and pricing
X-ALT-DESC;FMTTYPE=text/html:Speaker: Author Mark Danner\, Professor of Journalism \, University of California and Berkeley and Henry R. Luce\, Professor of Human Rights and Journalism\, Bard College\nIn 2009 he was able to obtain a copy of the International Committee of the Red Cross's secret report on the American military's use of torture and publised it in the New York Review of Books.\nHe is the author of Torture and Truth: America Abu Ghraib and the War on Terror.\nCost: Call for reservations and pricing
LOCATION:
UID:e.1212.3669
SEQUENCE:3
DTSTAMP:20260424T204759Z
URL:http://business.beaufortchamber.org/events/details/uscb-executive-speaker-series-guest-speaker-11-19-2009-3669
END:VEVENT

END:VCALENDAR
