BEGIN:VCALENDAR
VERSION:2.0
PRODID:-//ChamberMaster//Event Calendar 2.0//EN
METHOD:PUBLISH
X-PUBLISHED-TTL:P3D
REFRESH-INTERVAL:P3D
CALSCALE:GREGORIAN
BEGIN:VEVENT
DTSTART;VALUE=DATE:20091120
DTEND;VALUE=DATE:20091121
TRANSP:TRANSPARENT
X-MICROSOFT-CDO-ALLDAYEVENT:TRUE
SUMMARY:USCB Executive Speaker Series - Health Care Reform
DESCRIPTION:Speaker: Cyndy Nayer\, President/CEO\, Center for Health Value Innovation\nTopic: Health Care Reform\nShe is a frequent guest on TV\, quoted source and featured subject in many news articles \, coordinates seminars and speaks nationally on a variety of topics.  She has served a lecturer for the St. Louis University Geriatric Summer Institue\, National Council on the Aging\, Missouri Governor's Council on Aging and the Club Industry.\nCost: Free for members\nCost: All others call for reservations and pricing
X-ALT-DESC;FMTTYPE=text/html:Speaker: Cyndy Nayer\, President/CEO\, Center for Health Value Innovation\nTopic: Health Care Reform\nShe is a frequent guest on TV\, quoted source and featured subject in many news articles \, coordinates seminars and speaks nationally on a variety of topics.  She has served a lecturer for the St. Louis University Geriatric Summer Institue\, National Council on the Aging\, Missouri Governor's Council on Aging and the Club Industry.\nCost: Free for members\nCost: All others call for reservations and pricing
LOCATION:
UID:e.1212.3670
SEQUENCE:3
DTSTAMP:20260424T204846Z
URL:http://business.beaufortchamber.org/events/details/uscb-executive-speaker-series-health-care-reform-11-20-2009-3670
END:VEVENT

END:VCALENDAR
