BEGIN:VCALENDAR
VERSION:2.0
PRODID:-//ChamberMaster//Event Calendar 2.0//EN
METHOD:PUBLISH
X-PUBLISHED-TTL:P3D
REFRESH-INTERVAL:P3D
CALSCALE:GREGORIAN
BEGIN:VEVENT
DTSTART;VALUE=DATE:20091119
DTEND;VALUE=DATE:20091120
TRANSP:TRANSPARENT
X-MICROSOFT-CDO-ALLDAYEVENT:TRUE
SUMMARY:USCB Executive Speaker Series - Lunch With Author
DESCRIPTION:Speaker: Author and Photographer\, Jeanne Moutoussamy-Ashe\nTopic: Photo Book\, Daufuskie Island\nThis internationally acclaimed photographer will celebrate the 25th anniversary edition of her award-winning photo book.  This book features fifty previously unplublished photographs and has been on exhibit world-wide.\nCost: Call for reservations and pricing
X-ALT-DESC;FMTTYPE=text/html:Speaker: Author and Photographer\, Jeanne Moutoussamy-Ashe\nTopic: Photo Book\, Daufuskie Island\nThis internationally acclaimed photographer will celebrate the 25th anniversary edition of her award-winning photo book.  This book features fifty previously unplublished photographs and has been on exhibit world-wide.\nCost: Call for reservations and pricing
LOCATION:
UID:e.1212.3671
SEQUENCE:3
DTSTAMP:20260424T204641Z
URL:http://business.beaufortchamber.org/events/details/uscb-executive-speaker-series-lunch-with-author-11-19-2009-3671
END:VEVENT

END:VCALENDAR
