BEGIN:VCALENDAR
VERSION:2.0
PRODID:-//ChamberMaster//Event Calendar 2.0//EN
METHOD:PUBLISH
X-PUBLISHED-TTL:P3D
REFRESH-INTERVAL:P3D
CALSCALE:GREGORIAN
BEGIN:VEVENT
DTSTART;VALUE=DATE:20091114
DTEND;VALUE=DATE:20091115
TRANSP:TRANSPARENT
X-MICROSOFT-CDO-ALLDAYEVENT:TRUE
SUMMARY:USCB Executive Speaker Series - Travel Back in Time
DESCRIPTION:Join Dr. Lawrence Rowland and Dr. Stephen Wise on the USCB Historic Bus Tour of Revolutionary War sites.\nCost:  call for reservations
X-ALT-DESC;FMTTYPE=text/html:Join Dr. Lawrence Rowland and Dr. Stephen Wise on the USCB Historic Bus Tour of Revolutionary War sites.\nCost:  call for reservations
LOCATION:
UID:e.1212.3667
SEQUENCE:3
DTSTAMP:20260424T205202Z
URL:http://business.beaufortchamber.org/events/details/uscb-executive-speaker-series-travel-back-in-time-11-14-2009-3667
END:VEVENT

END:VCALENDAR
