BEGIN:VCALENDAR
VERSION:2.0
PRODID:-//ChamberMaster//Event Calendar 2.0//EN
METHOD:PUBLISH
X-PUBLISHED-TTL:P3D
REFRESH-INTERVAL:P3D
CALSCALE:GREGORIAN
BEGIN:VEVENT
DTSTART;VALUE=DATE:20090208
DTEND;VALUE=DATE:20090209
TRANSP:TRANSPARENT
X-MICROSOFT-CDO-ALLDAYEVENT:TRUE
SUMMARY:USCB Festival Series Concert
DESCRIPTION:Featuring Charles Wadsworth and Friends Anton Nel\, Edward Arron and the St. Lawrence String Quartet: Geoff Nuttall\, Scott St. John\, Lesley Roberson\, Christopher Costanza.  Subscriptions for five-concert tickets available.  Individual tickets B&C $50\, A&D $45\, E&F $40.
X-ALT-DESC;FMTTYPE=text/html:Featuring Charles Wadsworth and Friends Anton Nel\, Edward Arron and the St. Lawrence String Quartet: Geoff Nuttall\, Scott St. John\, Lesley Roberson\, Christopher Costanza.  Subscriptions for five-concert tickets available.  Individual tickets B&C $50\, A&D $45\, E&F $40.
LOCATION:Beaufort
UID:e.1212.2466
SEQUENCE:3
DTSTAMP:20260425T112908Z
URL:http://business.beaufortchamber.org/events/details/uscb-festival-series-concert-02-08-2009-2466
END:VEVENT

END:VCALENDAR
