BEGIN:VCALENDAR
VERSION:2.0
PRODID:-//ChamberMaster//Event Calendar 2.0//EN
METHOD:PUBLISH
X-PUBLISHED-TTL:P3D
REFRESH-INTERVAL:P3D
CALSCALE:GREGORIAN
BEGIN:VEVENT
DTSTART;VALUE=DATE:20090315
DTEND;VALUE=DATE:20090316
TRANSP:TRANSPARENT
X-MICROSOFT-CDO-ALLDAYEVENT:TRUE
SUMMARY:USCB Festival Series Concert
DESCRIPTION:Featuring Charles Wadsworth and Friends Todd Palmer\, Gilles Vonsattel\, Karen Gomyo\, Edward Arron.  Subscriptions for five-concert season tickets available.  Individual tickets B&C $50\, A&D $45\, E&F $40.
X-ALT-DESC;FMTTYPE=text/html:Featuring Charles Wadsworth and Friends Todd Palmer\, Gilles Vonsattel\, Karen Gomyo\, Edward Arron.  Subscriptions for five-concert season tickets available.  Individual tickets B&C $50\, A&D $45\, E&F $40.
LOCATION:Beaufort
UID:e.1212.2467
SEQUENCE:3
DTSTAMP:20260425T112903Z
URL:http://business.beaufortchamber.org/events/details/uscb-festival-series-concert-03-15-2009-2467
END:VEVENT

END:VCALENDAR
