BEGIN:VCALENDAR
VERSION:2.0
PRODID:-//ChamberMaster//Event Calendar 2.0//EN
METHOD:PUBLISH
X-PUBLISHED-TTL:P3D
REFRESH-INTERVAL:P3D
CALSCALE:GREGORIAN
BEGIN:VEVENT
DTSTART;VALUE=DATE:20091101
DTEND;VALUE=DATE:20091102
TRANSP:TRANSPARENT
X-MICROSOFT-CDO-ALLDAYEVENT:TRUE
SUMMARY:USCB Festival Series - The Lowcountry's Premier Chamber Music Concerts
DESCRIPTION:This series opens with an evening of Beethoven\, Jean Francaix & Schumann with Edward Arron\, Artistic Director and Host\, and Reko Aizawa\, Corey Cervosek and Toby Appel.\nTickets may be purchased by phone\, on line or may be available at the door if not sold out\nCost: $40 for individual tickets\nSubscriptions for this five concert program are available beginning at $175.
X-ALT-DESC;FMTTYPE=text/html:This series opens with an evening of Beethoven\, Jean Francaix & Schumann with Edward Arron\, Artistic Director and Host\, and Reko Aizawa\, Corey Cervosek and Toby Appel.\nTickets may be purchased by phone\, on line or may be available at the door if not sold out\nCost: $40 for individual tickets\nSubscriptions for this five concert program are available beginning at $175.
LOCATION:
UID:e.1212.3639
SEQUENCE:3
DTSTAMP:20260424T210817Z
URL:http://business.beaufortchamber.org/events/details/uscb-festival-series-the-lowcountry-s-premier-chamber-music-concerts-11-01-2009-3639
END:VEVENT

END:VCALENDAR
