BEGIN:VCALENDAR
VERSION:2.0
PRODID:-//ChamberMaster//Event Calendar 2.0//EN
METHOD:PUBLISH
X-PUBLISHED-TTL:P3D
REFRESH-INTERVAL:P3D
CALSCALE:GREGORIAN
BEGIN:VEVENT
DTSTART;VALUE=DATE:20091107
DTEND;VALUE=DATE:20091108
TRANSP:TRANSPARENT
X-MICROSOFT-CDO-ALLDAYEVENT:TRUE
SUMMARY:USCB Golden Jubilee (1959-2009) - Art\, Artifice & Acquisition Appraisal Day
DESCRIPTION:Do you have something you think might be valuable or need to have re-appraised ?  \nIf so\, bring it on down and have it appraised by Kelly Dykes and Colleagues of Certified Personal Property Appraisals.  They comply with standards as set forth in the Uniform Standards of Professional Appraisal Practice of the Appraisal Foundation\, Inc. of Washington\, D.C.\nAccepted items: Art\, antiques and jewelry \nCost: $25 - call for appoitment and bring one item
X-ALT-DESC;FMTTYPE=text/html:Do you have something you think might be valuable or need to have re-appraised ?  \nIf so\, bring it on down and have it appraised by Kelly Dykes and Colleagues of Certified Personal Property Appraisals.  They comply with standards as set forth in the Uniform Standards of Professional Appraisal Practice of the Appraisal Foundation\, Inc. of Washington\, D.C.\nAccepted items: Art\, antiques and jewelry \nCost: $25 - call for appoitment and bring one item
LOCATION:
UID:e.1212.3666
SEQUENCE:3
DTSTAMP:20260424T221734Z
URL:http://business.beaufortchamber.org/events/details/uscb-golden-jubilee-1959-2009-art-artifice-acquisition-appraisal-day-11-07-2009-3666
END:VEVENT

END:VCALENDAR
