BEGIN:VCALENDAR
VERSION:2.0
PRODID:-//ChamberMaster//Event Calendar 2.0//EN
METHOD:PUBLISH
X-PUBLISHED-TTL:P3D
REFRESH-INTERVAL:P3D
CALSCALE:GREGORIAN
BEGIN:VEVENT
DTSTART;VALUE=DATE:20091105
DTEND;VALUE=DATE:20091106
TRANSP:TRANSPARENT
X-MICROSOFT-CDO-ALLDAYEVENT:TRUE
SUMMARY:USCB Golden Jubilee (1959-2009) - Art\, Artifice & Acquisition Opening Night Reception
DESCRIPTION:Join Chancellor Upshaw and honored guests Dr. Larry Rowland\; renowned historian\, Dr. Baer\, Mr. Boser and Mr. Dykes as we celebrate the University's 50th anniversary.  You will have the opportunity to meet our guest speakers\, enjoy indulgent delicacies and bid on several very special items.\nCost:  Call for reservations and pricing
X-ALT-DESC;FMTTYPE=text/html:Join Chancellor Upshaw and honored guests Dr. Larry Rowland\; renowned historian\, Dr. Baer\, Mr. Boser and Mr. Dykes as we celebrate the University's 50th anniversary.  You will have the opportunity to meet our guest speakers\, enjoy indulgent delicacies and bid on several very special items.\nCost:  Call for reservations and pricing
LOCATION:
UID:e.1212.3664
SEQUENCE:3
DTSTAMP:20260424T204846Z
URL:http://business.beaufortchamber.org/events/details/uscb-golden-jubilee-1959-2009-art-artifice-acquisition-opening-night-reception-11-05-2009-3664
END:VEVENT

END:VCALENDAR
