BEGIN:VCALENDAR
VERSION:2.0
PRODID:-//ChamberMaster//Event Calendar 2.0//EN
METHOD:PUBLISH
X-PUBLISHED-TTL:P3D
REFRESH-INTERVAL:P3D
CALSCALE:GREGORIAN
BEGIN:VEVENT
DTSTART;VALUE=DATE:20091106
DTEND;VALUE=DATE:20091107
TRANSP:TRANSPARENT
X-MICROSOFT-CDO-ALLDAYEVENT:TRUE
SUMMARY:USCB Golden Jubilee (1959-2009) - Art\, Artifice & Acquisition Three Part Lecture
DESCRIPTION:10:00am - Speaker: Llewellyn (Kelly) will share his incredible career both as a police officer and now as an appraiser.  You will hear some fascinating stories from his crime fighting days and how he came into the appraisal business as well as how he has discovered "real treasure" right here in Beaufort !\n11:00am - Speaker: Reporter\, Ulrich Boser writes about culture\, politics and social issues.  He is the author of The Gardner Heist: The True Story of the World's Largest Unsolved Art Theft.  Come hear how you could be part of a $5 million dollar reward for the missing art !\n12:00pm - Lunch and book signing\n2:00pm - Speaker: Senior Curator\, Ronni Baer\, Museum of Fine Arts in Boston.  She is a scholar in the field of art history.  Her research for El Greco to Velazquea sheds new light on 23 years (1598-1621) of art.  She will discuss how such exhibitions start as ideas\, researched\, collaborated\, gathered\, funded\, marketed and presented to the mueseum visitor.\nCost: $40 includes 3 lectures and lunch with reservations\nCost: $15 individual lecture     Cost: $10 lunch per person
X-ALT-DESC;FMTTYPE=text/html:10:00am - Speaker: Llewellyn (Kelly) will share his incredible career both as a police officer and now as an appraiser.  You will hear some fascinating stories from his crime fighting days and how he came into the appraisal business as well as how he has discovered "real treasure" right here in Beaufort !\n11:00am - Speaker: Reporter\, Ulrich Boser writes about culture\, politics and social issues.  He is the author of The Gardner Heist: The True Story of the World's Largest Unsolved Art Theft.  Come hear how you could be part of a $5 million dollar reward for the missing art !\n12:00pm - Lunch and book signing\n2:00pm - Speaker: Senior Curator\, Ronni Baer\, Museum of Fine Arts in Boston.  She is a scholar in the field of art history.  Her research for El Greco to Velazquea sheds new light on 23 years (1598-1621) of art.  She will discuss how such exhibitions start as ideas\, researched\, collaborated\, gathered\, funded\, marketed and presented to the mueseum visitor.\nCost: $40 includes 3 lectures and lunch with reservations\nCost: $15 individual lecture     Cost: $10 lunch per person
LOCATION:
UID:e.1212.3665
SEQUENCE:3
DTSTAMP:20260424T220812Z
URL:http://business.beaufortchamber.org/events/details/uscb-golden-jubilee-1959-2009-art-artifice-acquisition-three-part-lecture-11-06-2009-3665
END:VEVENT

END:VCALENDAR
