BEGIN:VCALENDAR
VERSION:2.0
PRODID:-//ChamberMaster//Event Calendar 2.0//EN
METHOD:PUBLISH
X-PUBLISHED-TTL:P3D
REFRESH-INTERVAL:P3D
CALSCALE:GREGORIAN
BEGIN:VEVENT
DTSTART;VALUE=DATE:20100305
DTEND;VALUE=DATE:20100306
TRANSP:TRANSPARENT
X-MICROSOFT-CDO-ALLDAYEVENT:TRUE
SUMMARY:USCB Golden Jubilee: Community Celebration with Walter Edgar
DESCRIPTION:Community Celebration with Walter Edgar \n\nUSCB Golden Jubilee event: Walter Edgar will analyze the history of education in South Carolina with a focus on the Lowcountry\n\nMarch 5\, 2010\n\nLibrary Plaza – Hilton Head Gateway campus\, Bluffton\n\nFREE
X-ALT-DESC;FMTTYPE=text/html:Community Celebration with Walter Edgar \n\nUSCB Golden Jubilee event: Walter Edgar will analyze the history of education in South Carolina with a focus on the Lowcountry\n\nMarch 5\, 2010\n\nLibrary Plaza – Hilton Head Gateway campus\, Bluffton\n\nFREE
LOCATION:
UID:e.1212.3728
SEQUENCE:3
DTSTAMP:20260424T154726Z
URL:http://business.beaufortchamber.org/events/details/uscb-golden-jubilee-community-celebration-with-walter-edgar-03-05-2010-3728
END:VEVENT

END:VCALENDAR
