BEGIN:VCALENDAR
VERSION:2.0
PRODID:-//ChamberMaster//Event Calendar 2.0//EN
METHOD:PUBLISH
X-PUBLISHED-TTL:P3D
REFRESH-INTERVAL:P3D
CALSCALE:GREGORIAN
BEGIN:VEVENT
DTSTART:20121107T170000Z
DTEND:20121107T190000Z
X-MICROSOFT-CDO-ALLDAYEVENT:FALSE
SUMMARY:USCB Lunch With Author Series - Claire Cook
DESCRIPTION:New York Times bestselling author Claire Cook is best known for the movie version of her second novel\, Must Love Dogs starring Diane Lane and John Cusack.  Wednesday\, November 7\, she will be the featured author at USCB Lunch With Author Series at Dataw Island's Carolina Room\, Beaufort.  All-inclusive price is $42.  Reservations are made at 843-521-4147 or kingsley@uscb.edu.\n\n	Claire Cook wrote her first novel in her minivan outside her daughter's swim practice when she was 45. At 50\, she walked the red carpet at the Hollywood adaptation of her second novel\, Must Love Dogs. She is now the bestselling and award-winning author of nine novels\, including Wallflower in Bloom\, which is the featured novel at the November 7th luncheon. Her favorite saying is "Midlife rocks!"
X-ALT-DESC;FMTTYPE=text/html:<p class="MsoNormal" style="margin: 0in 0in 10pt">\n	<font color="#000000"><span lang="EN" style="font-family: 'times new roman'\, 'serif'\; font-size: 12pt\; mso-ansi-language: en">New York Times bestselling author <b style="mso-bidi-font-weight: normal">Claire Cook</b> is best known for the movie version of her second novel\, <i style="mso-bidi-font-style: normal">Must Love Dogs</i> starring Diane Lane and John Cusack.<span style="mso-spacerun: yes">&nbsp\; </span>Wednesday\, November 7\, she will be the featured author at USCB Lunch With Author Series at Dataw Island&rsquo\;s Carolina Room\, Beaufort.<span style="mso-spacerun: yes">&nbsp\; </span>All-inclusive price is $42.<span style="mso-spacerun: yes">&nbsp\; </span>Reservations are made at 843-521-4147 or kingsley@uscb.edu.</span><i style="mso-bidi-font-style: normal"><span style="font-family: 'times new roman'\, 'serif'\; font-size: 12pt"><o:p></o:p></span></i></font></p>\n<p class="MsoNormal" style="margin: 0in 0in 10pt">\n	<font color="#000000"><span class="style21"><span lang="EN" style="font-family: 'times new roman'\, 'serif'\; font-size: 12pt\; mso-ansi-language: en"><strong>Claire Cook</strong></span></span><span lang="EN" style="font-family: 'times new roman'\, 'serif'\; font-size: 12pt\; mso-ansi-language: en"> wrote her first novel in her minivan outside her daughter&#39\;s swim practice when she was 45. At 50\, she walked the red carpet at the Hollywood adaptation of her second novel\, <span class="style21"><span style="font-family: 'times new roman'\, 'serif'\; mso-ansi-font-size: 12.0pt\; mso-bidi-font-size: 12.0pt"><strong>Must Love Dogs</strong></span></span>. She is now the bestselling and award-winning author of nine novels\, including <span class="style21"><span style="font-family: 'times new roman'\, 'serif'\; mso-ansi-font-size: 12.0pt\; mso-bidi-font-size: 12.0pt"><strong>Wallflower in Bloom</strong></span></span>\, which is the featured novel at the November 7<sup>th</sup> luncheon. Her favorite saying is &ldquo\;Midlife rocks!&rdquo\;<o:p></o:p></span></font></p>\n
LOCATION:Dataw Island Club Carolina Room\, 100 Dataw Drive\, Beaufort
UID:e.1212.4644
SEQUENCE:3
DTSTAMP:20260422T134150Z
URL:http://business.beaufortchamber.org/events/details/uscb-lunch-with-author-series-claire-cook-11-07-2012-4644
END:VEVENT

END:VCALENDAR
