BEGIN:VCALENDAR
VERSION:2.0
PRODID:-//ChamberMaster//Event Calendar 2.0//EN
METHOD:PUBLISH
X-PUBLISHED-TTL:P3D
REFRESH-INTERVAL:P3D
CALSCALE:GREGORIAN
BEGIN:VEVENT
DTSTART;VALUE=DATE:20100310
DTEND;VALUE=DATE:20100311
TRANSP:TRANSPARENT
X-MICROSOFT-CDO-ALLDAYEVENT:TRUE
SUMMARY:USCB Lunch with Author series: Stephen Hoffius & Robert Cuthbert
DESCRIPTION:Lunch with Author series: Stephen Hoffius & Robert Cuthbert\n\nMarch 10\, 2010\n\n12:00pm\n\nDataw Country Club\, Beaufort – Reservations 843-521-4147
X-ALT-DESC;FMTTYPE=text/html:Lunch with Author series: Stephen Hoffius & Robert Cuthbert\n\nMarch 10\, 2010\n\n12:00pm\n\nDataw Country Club\, Beaufort – Reservations 843-521-4147
LOCATION:
UID:e.1212.3729
SEQUENCE:3
DTSTAMP:20260424T153816Z
URL:http://business.beaufortchamber.org/events/details/uscb-lunch-with-author-series-stephen-hoffius-robert-cuthbert-03-10-2010-3729
END:VEVENT

END:VCALENDAR
