BEGIN:VCALENDAR
VERSION:2.0
PRODID:-//ChamberMaster//Event Calendar 2.0//EN
METHOD:PUBLISH
X-PUBLISHED-TTL:P3D
REFRESH-INTERVAL:P3D
CALSCALE:GREGORIAN
BEGIN:VEVENT
DTSTART;VALUE=DATE:20100203
DTEND;VALUE=DATE:20100204
TRANSP:TRANSPARENT
X-MICROSOFT-CDO-ALLDAYEVENT:TRUE
SUMMARY:USCB South Campus - 'Economic Outlook'
DESCRIPTION:Join Senior Vice President\, Matthew Martin in charge of the Federal Reserve Bank branch in Charlotte as he presents "Is This the Turning Point"?\nOther speakers include Beaufort Couty Schools Supeintendent\, Valerie Truesdale and Media Specialist from Mossy Oaks Elementary School\, Miriam Kelley.\nCost for Lunch: $25
X-ALT-DESC;FMTTYPE=text/html:Join Senior Vice President\, Matthew Martin in charge of the Federal Reserve Bank branch in Charlotte as he presents "Is This the Turning Point"?\nOther speakers include Beaufort Couty Schools Supeintendent\, Valerie Truesdale and Media Specialist from Mossy Oaks Elementary School\, Miriam Kelley.\nCost for Lunch: $25
LOCATION:
UID:e.1212.3759
SEQUENCE:3
DTSTAMP:20260424T171720Z
URL:http://business.beaufortchamber.org/events/details/uscb-south-campus-economic-outlook-02-03-2010-3759
END:VEVENT

END:VCALENDAR
