BEGIN:VCALENDAR
VERSION:2.0
PRODID:-//ChamberMaster//Event Calendar 2.0//EN
METHOD:PUBLISH
X-PUBLISHED-TTL:P3D
REFRESH-INTERVAL:P3D
CALSCALE:GREGORIAN
BEGIN:VEVENT
DTSTART;VALUE=DATE:20100115
DTEND;VALUE=DATE:20100116
TRANSP:TRANSPARENT
X-MICROSOFT-CDO-ALLDAYEVENT:TRUE
SUMMARY:USCB Studio Art Exhibition
DESCRIPTION:USCB Studio Art Exhibition\n\nJanuary 15 – February 26\, 2010\n\n8:00am-5:00pm\n\nPerforming Arts Center Gallery\n\n801 Carteret Street\, Beaufort – FREE
X-ALT-DESC;FMTTYPE=text/html:USCB Studio Art Exhibition\n\nJanuary 15 – February 26\, 2010\n\n8:00am-5:00pm\n\nPerforming Arts Center Gallery\n\n801 Carteret Street\, Beaufort – FREE
LOCATION:
UID:e.1212.3725
SEQUENCE:3
DTSTAMP:20260424T183048Z
URL:http://business.beaufortchamber.org/events/details/uscb-studio-art-exhibition-01-15-2010-3725
END:VEVENT

END:VCALENDAR
