BEGIN:VCALENDAR
VERSION:2.0
PRODID:-//ChamberMaster//Event Calendar 2.0//EN
METHOD:PUBLISH
X-PUBLISHED-TTL:P3D
REFRESH-INTERVAL:P3D
CALSCALE:GREGORIAN
BEGIN:VEVENT
DTSTART:20140126T220000Z
DTEND:20140127T000000Z
X-MICROSOFT-CDO-ALLDAYEVENT:FALSE
SUMMARY:Vega String Quartet
DESCRIPTION:As the Quartet in residence at Emory University\, this ensemble has thrilled audiences in recitals and at festivals worldwide with their vibrant\, cutting edge interpretations of traditional and modern chamber music.\n\n\n\nAll are invited to the catered reception that follows each concert\, where you will meet the artists.
X-ALT-DESC;FMTTYPE=text/html:As the Quartet in residence at Emory University\, this ensemble has thrilled audiences in recitals and at festivals worldwide with their vibrant\, cutting edge interpretations of traditional and modern chamber music.<br />\n<br />\nAll are invited to the catered reception that follows each concert\, where you will meet the artists.
LOCATION:Fripp Island Community Center 205 Tarpon Blvd.\, Fripp Island\, SC
UID:e.1212.5227
SEQUENCE:3
DTSTAMP:20260421T131739Z
URL:http://business.beaufortchamber.org/events/details/vega-string-quartet-01-26-2014-5227
END:VEVENT

END:VCALENDAR
