BEGIN:VCALENDAR
VERSION:2.0
PRODID:-//ChamberMaster//Event Calendar 2.0//EN
METHOD:PUBLISH
X-PUBLISHED-TTL:P3D
REFRESH-INTERVAL:P3D
CALSCALE:GREGORIAN
BEGIN:VEVENT
DTSTART:20140301T130000Z
DTEND:20140301T180000Z
X-MICROSOFT-CDO-ALLDAYEVENT:FALSE
SUMMARY:VENDOR & CRAFT FAIR
DESCRIPTION:VENDORS AND CRAFTERS OFFERING THEIR TALENTS TO BENEFIT AMERICAN CANCER SOCIETY AND RELAY FOR LIFE.
X-ALT-DESC;FMTTYPE=text/html:VENDORS AND CRAFTERS OFFERING THEIR TALENTS TO BENEFIT AMERICAN CANCER SOCIETY AND RELAY FOR LIFE.
LOCATION:DUKE'S BBQ PARKING LOT 1509 SALEM ROAD\, BEAUFORT
UID:e.1212.5252
SEQUENCE:3
DTSTAMP:20260421T084236Z
URL:http://business.beaufortchamber.org/events/details/vendor-craft-fair-03-01-2014-5252
END:VEVENT

END:VCALENDAR
