BEGIN:VCALENDAR
VERSION:2.0
PRODID:-//ChamberMaster//Event Calendar 2.0//EN
METHOD:PUBLISH
X-PUBLISHED-TTL:P3D
REFRESH-INTERVAL:P3D
CALSCALE:GREGORIAN
BEGIN:VEVENT
DTSTART:20121027T165500Z
DTEND:20121027T210000Z
X-MICROSOFT-CDO-ALLDAYEVENT:FALSE
SUMMARY:Verdi's Otello - MET OPERA LIVE IN HD
DESCRIPTION:OTELLO  Verdi's Shakespearean masterpiece returns to the Met with Johan Botha in the title role opposite the acclaimed Desdemona of star soprano Ren e Fleming. Semyon Bychkov conducts.
X-ALT-DESC;FMTTYPE=text/html:<strong>OTELLO</strong>&nbsp\; Verdi&rsquo\;s Shakespearean masterpiece returns to the Met with Johan Botha in the title role opposite the acclaimed Desdemona of star soprano Ren&eacute\;e Fleming. Semyon Bychkov conducts. 
LOCATION:USCB Center for the Arts 801 Carteret Street Beaufort SC
UID:e.1212.4626
SEQUENCE:3
DTSTAMP:20260422T163256Z
URL:http://business.beaufortchamber.org/events/details/verdi-s-otello-met-opera-live-in-hd-10-27-2012-4626
END:VEVENT

END:VCALENDAR
