BEGIN:VCALENDAR
VERSION:2.0
PRODID:-//ChamberMaster//Event Calendar 2.0//EN
METHOD:PUBLISH
X-PUBLISHED-TTL:P3D
REFRESH-INTERVAL:P3D
CALSCALE:GREGORIAN
BEGIN:VEVENT
DTSTART;VALUE=DATE:20091111
DTEND;VALUE=DATE:20091112
TRANSP:TRANSPARENT
X-MICROSOFT-CDO-ALLDAYEVENT:TRUE
SUMMARY:Veteran's Day Movie Night - 'The Way We Get By'
DESCRIPTION:Presented by MCAS Beaufort Federal Credit Union and Highway 21 Drive In Movie and in honor of Veterans's Day\, come out and enjoy this award winning documentary.\nThis film is about a group of retirees who gather daily at a small airport to thank American soldiers departing and returning from Iraq.  The film quickly turns into a moving\, unselttliing and compassionate story.  \nYour concession sales help keep us open and allows us to get the most current films for your viewing enjoyment. So come out for a full evening of family fun.  \nCost: FREE\nShow Times:  6:00pm and 8:00pm
X-ALT-DESC;FMTTYPE=text/html:Presented by MCAS Beaufort Federal Credit Union and Highway 21 Drive In Movie and in honor of Veterans's Day\, come out and enjoy this award winning documentary.\nThis film is about a group of retirees who gather daily at a small airport to thank American soldiers departing and returning from Iraq.  The film quickly turns into a moving\, unselttliing and compassionate story.  \nYour concession sales help keep us open and allows us to get the most current films for your viewing enjoyment. So come out for a full evening of family fun.  \nCost: FREE\nShow Times:  6:00pm and 8:00pm
LOCATION:
UID:e.1212.3548
SEQUENCE:3
DTSTAMP:20260424T205519Z
URL:http://business.beaufortchamber.org/events/details/veteran-s-day-movie-night-the-way-we-get-by-11-11-2009-3548
END:VEVENT

END:VCALENDAR
