BEGIN:VCALENDAR
VERSION:2.0
PRODID:-//ChamberMaster//Event Calendar 2.0//EN
METHOD:PUBLISH
X-PUBLISHED-TTL:P3D
REFRESH-INTERVAL:P3D
CALSCALE:GREGORIAN
BEGIN:VEVENT
DTSTART;VALUE=DATE:20091111
DTEND;VALUE=DATE:20091112
TRANSP:TRANSPARENT
X-MICROSOFT-CDO-ALLDAYEVENT:TRUE
SUMMARY:Veterans Day Concert and Celebration
DESCRIPTION:Please join Battery Creek\, Beaufort\, Bluffton and Hilton Head Island high schools as they honor our local veterans with this evening of entertainment.\nSubmit your photos of Beaufort County High School graduates\, faculty and staff members who have served or are now serving in the armed forces. Include full name\, high school\, branch of service and dates served.  \nThere will be a presentation of these photos during the event\nDeadline for submission of photos:  November 2\nParris Island Marine Corps band will also be performing\nCost: Free and open to the public
X-ALT-DESC;FMTTYPE=text/html:Please join Battery Creek\, Beaufort\, Bluffton and Hilton Head Island high schools as they honor our local veterans with this evening of entertainment.\nSubmit your photos of Beaufort County High School graduates\, faculty and staff members who have served or are now serving in the armed forces. Include full name\, high school\, branch of service and dates served.  \nThere will be a presentation of these photos during the event\nDeadline for submission of photos:  November 2\nParris Island Marine Corps band will also be performing\nCost: Free and open to the public
LOCATION:
UID:e.1212.3653
SEQUENCE:3
DTSTAMP:20260424T205147Z
URL:http://business.beaufortchamber.org/events/details/veterans-day-concert-and-celebration-11-11-2009-3653
END:VEVENT

END:VCALENDAR
