BEGIN:VCALENDAR
VERSION:2.0
PRODID:-//ChamberMaster//Event Calendar 2.0//EN
METHOD:PUBLISH
X-PUBLISHED-TTL:P3D
REFRESH-INTERVAL:P3D
CALSCALE:GREGORIAN
BEGIN:VEVENT
DTSTART;VALUE=DATE:20090306
DTEND;VALUE=DATE:20090307
TRANSP:TRANSPARENT
X-MICROSOFT-CDO-ALLDAYEVENT:TRUE
SUMMARY:Waste Management CAPA Pro Challenge Golf Tournament
DESCRIPTION:Play alongside retired professional athletes from the NFL\, NHL\, and other fields in a two-day golf tournament presented by Waste Management.  Friday's round will be at Golden Bear Golf Club\, Indigo Run\, Hilton Head and Saturday's round will be at Dataw Island Cotton Dike Golf Course.
X-ALT-DESC;FMTTYPE=text/html:Play alongside retired professional athletes from the NFL\, NHL\, and other fields in a two-day golf tournament presented by Waste Management.  Friday's round will be at Golden Bear Golf Club\, Indigo Run\, Hilton Head and Saturday's round will be at Dataw Island Cotton Dike Golf Course.
LOCATION:
UID:e.1212.2997
SEQUENCE:3
DTSTAMP:20260425T111538Z
URL:http://business.beaufortchamber.org/events/details/waste-management-capa-pro-challenge-golf-tournament-03-06-2009-2997
END:VEVENT

END:VCALENDAR
