BEGIN:VCALENDAR
VERSION:2.0
PRODID:-//ChamberMaster//Event Calendar 2.0//EN
METHOD:PUBLISH
X-PUBLISHED-TTL:P3D
REFRESH-INTERVAL:P3D
CALSCALE:GREGORIAN
BEGIN:VEVENT
DTSTART;VALUE=DATE:20100101
DTEND;VALUE=DATE:20100102
TRANSP:TRANSPARENT
X-MICROSOFT-CDO-ALLDAYEVENT:TRUE
SUMMARY:Watch Night Services
DESCRIPTION:Check your local newspaper listings for New Years Eve Services at the local churches.\n\nReading of the Emancipation Proclamation.
X-ALT-DESC;FMTTYPE=text/html:Check your local newspaper listings for New Years Eve Services at the local churches.\n\nReading of the Emancipation Proclamation.
LOCATION:
UID:e.1212.3263
SEQUENCE:3
DTSTAMP:20260424T193356Z
URL:http://business.beaufortchamber.org/events/details/watch-night-services-01-01-2010-3263
END:VEVENT

END:VCALENDAR
