BEGIN:VCALENDAR
VERSION:2.0
PRODID:-//ChamberMaster//Event Calendar 2.0//EN
METHOD:PUBLISH
X-PUBLISHED-TTL:P3D
REFRESH-INTERVAL:P3D
CALSCALE:GREGORIAN
BEGIN:VEVENT
DTSTART;VALUE=DATE:20130728
DTEND;VALUE=DATE:20130729
TRANSP:TRANSPARENT
X-MICROSOFT-CDO-ALLDAYEVENT:TRUE
SUMMARY:Water Festival
DESCRIPTION:For more information visit www.bftwaterfestival.com
X-ALT-DESC;FMTTYPE=text/html:For more information visit www.bftwaterfestival.com
LOCATION:
UID:e.1212.4713
SEQUENCE:3
DTSTAMP:20260421T232625Z
URL:http://business.beaufortchamber.org/events/details/water-festival-07-28-2013-4713
END:VEVENT

END:VCALENDAR
