BEGIN:VCALENDAR
VERSION:2.0
PRODID:-//ChamberMaster//Event Calendar 2.0//EN
METHOD:PUBLISH
X-PUBLISHED-TTL:P3D
REFRESH-INTERVAL:P3D
CALSCALE:GREGORIAN
BEGIN:VEVENT
DTSTART:20140130T130000Z
DTEND:20140130T190000Z
X-MICROSOFT-CDO-ALLDAYEVENT:FALSE
SUMMARY:Whale Branch Early College High School Blood Drive
DESCRIPTION:The Blood Alliance blood drive sponsored by Whale Branch Early College High School!
X-ALT-DESC;FMTTYPE=text/html:The Blood Alliance blood drive sponsored by Whale Branch Early College High School!
LOCATION:69 Detour Road\, Seabrook
UID:e.1212.5162
SEQUENCE:3
DTSTAMP:20260421T133551Z
URL:http://business.beaufortchamber.org/events/details/whale-branch-early-college-high-school-blood-drive-01-30-2014-5162
END:VEVENT

END:VCALENDAR
