BEGIN:VCALENDAR
VERSION:2.0
PRODID:-//ChamberMaster//Event Calendar 2.0//EN
METHOD:PUBLISH
X-PUBLISHED-TTL:P3D
REFRESH-INTERVAL:P3D
CALSCALE:GREGORIAN
BEGIN:VEVENT
DTSTART:20120530T213000Z
DTEND:20120531T010000Z
X-MICROSOFT-CDO-ALLDAYEVENT:FALSE
SUMMARY:Who Knew Talent Revue Auditions
DESCRIPTION:USCB Center for the Arts invites you to audition for the WHO KNEW TALENT REVUE on Wednesday\, May 30.   5:30 PM - Vocalists\n\n	7:00 PM  - Dancers\, etc.  \n\n	8:30 PM   - Bands\n\n	 \n\n	Non returnable photo and resume helpful if available.\n\n	Ages 16 and older       \n\n	Vocalist: If you need an accompanist one will be provided.\n\n	Bring two copies of sheet music or bring background music CD\n\n	IN YOUR KEY\, please. Three minute time limit.\n\n	                        Be prepared to sing on stage with the microphone.\n\n	 \n\n	Bands:  Keyboard and Drums provided for auditions.\n\n	Prepare two contrasting songs or send CD and band vocalist\n\n	(limited to 15 minutes setup and performance) Reservations required for your\n\n	 audition time!  \n\n	Call 521-4145 to schedule.\n\n	Who Knew Talent Revue\n\n	August 5-7\, 2012 \n\n	USCB Center for the Arts
X-ALT-DESC;FMTTYPE=text/html:<style type="text/css">\n<!--{cke_protected}{C}%3C!%2D%2D%0A%20%2F*%20Font%20Definitions%20*%2F%0A%40font-face%0A%09%7Bfont-family%3A%22%26%2365325%3B%26%2365331%3B%20%26%2326126%3B%26%2326397%3B%22%3B%0A%09mso-font-charset%3A78%3B%0A%09mso-generic-font-family%3Aauto%3B%0A%09mso-font-pitch%3Avariable%3B%0A%09mso-font-signature%3A-536870145%201791491579%2018%200%20131231%200%3B%7D%0A%40font-face%0A%09%7Bfont-family%3A%22Cambria%20Math%22%3B%0A%09panose-1%3A2%204%205%203%205%204%206%203%202%204%3B%0A%09mso-font-charset%3A0%3B%0A%09mso-generic-font-family%3Aauto%3B%0A%09mso-font-pitch%3Avariable%3B%0A%09mso-font-signature%3A-536870145%201107305727%200%200%20415%200%3B%7D%0A%40font-face%0A%09%7Bfont-family%3ACambria%3B%0A%09panose-1%3A2%204%205%203%205%204%206%203%202%204%3B%0A%09mso-font-charset%3A0%3B%0A%09mso-generic-font-family%3Aauto%3B%0A%09mso-font-pitch%3Avariable%3B%0A%09mso-font-signature%3A-536870145%201073743103%200%200%20415%200%3B%7D%0A%40font-face%0A%09%7Bfont-family%3AMinionPro-Regular%3B%0A%09panose-1%3A0%200%200%200%200%200%200%200%200%200%3B%0A%09mso-font-alt%3A%22Minion%20Pro%22%3B%0A%09mso-font-charset%3A77%3B%0A%09mso-generic-font-family%3Aauto%3B%0A%09mso-font-format%3Aother%3B%0A%09mso-font-pitch%3Aauto%3B%0A%09mso-font-signature%3A3%200%200%200%201%200%3B%7D%0A%40font-face%0A%09%7Bfont-family%3AMinionPro-BoldIt%3B%0A%09panose-1%3A0%200%200%200%200%200%200%200%200%200%3B%0A%09mso-font-alt%3A%22Minion%20Pro%22%3B%0A%09mso-font-charset%3A77%3B%0A%09mso-generic-font-family%3Aauto%3B%0A%09mso-font-format%3Aother%3B%0A%09mso-font-pitch%3Aauto%3B%0A%09mso-font-signature%3A3%200%200%200%201%200%3B%7D%0A%20%2F*%20Style%20Definitions%20*%2F%0Ap.MsoNormal%2C%20li.MsoNormal%2C%20div.MsoNormal%0A%09%7Bmso-style-unhide%3Ano%3B%0A%09mso-style-qformat%3Ayes%3B%0A%09mso-style-parent%3A%22%22%3B%0A%09margin%3A0in%3B%0A%09margin-bottom%3A.0001pt%3B%0A%09mso-pagination%3Awidow-orphan%3B%0A%09font-size%3A12.0pt%3B%0A%09font-family%3ACambria%3B%0A%09mso-ascii-font-family%3ACambria%3B%0A%09mso-ascii-theme-font%3Aminor-latin%3B%0A%09mso-fareast-font-family%3A%22%26%2365325%3B%26%2365331%3B%20%26%2326126%3B%26%2326397%3B%22%3B%0A%09mso-fareast-theme-font%3Aminor-fareast%3B%0A%09mso-hansi-font-family%3ACambria%3B%0A%09mso-hansi-theme-font%3Aminor-latin%3B%0A%09mso-bidi-font-family%3A%22Times%20New%20Roman%22%3B%0A%09mso-bidi-theme-font%3Aminor-bidi%3B%7D%0Ap.BasicParagraph%2C%20li.BasicParagraph%2C%20div.BasicParagraph%0A%09%7Bmso-style-name%3A%22%5C%5BBasic%20Paragraph%5C%5D%22%3B%0A%09mso-style-priority%3A99%3B%0A%09mso-style-unhide%3Ano%3B%0A%09margin%3A0in%3B%0A%09margin-bottom%3A.0001pt%3B%0A%09line-height%3A120%25%3B%0A%09mso-pagination%3Anone%3B%0A%09mso-layout-grid-align%3Anone%3B%0A%09text-autospace%3Anone%3B%0A%09font-size%3A12.0pt%3B%0A%09font-family%3AMinionPro-Regular%3B%0A%09mso-fareast-font-family%3A%22%26%2365325%3B%26%2365331%3B%20%26%2326126%3B%26%2326397%3B%22%3B%0A%09mso-fareast-theme-font%3Aminor-fareast%3B%0A%09mso-bidi-font-family%3AMinionPro-Regular%3B%0A%09color%3Ablack%3B%7D%0A.MsoChpDefault%0A%09%7Bmso-style-type%3Aexport-only%3B%0A%09mso-default-props%3Ayes%3B%0A%09font-family%3ACambria%3B%0A%09mso-ascii-font-family%3ACambria%3B%0A%09mso-ascii-theme-font%3Aminor-latin%3B%0A%09mso-fareast-font-family%3A%22%26%2365325%3B%26%2365331%3B%20%26%2326126%3B%26%2326397%3B%22%3B%0A%09mso-fareast-theme-font%3Aminor-fareast%3B%0A%09mso-hansi-font-family%3ACambria%3B%0A%09mso-hansi-theme-font%3Aminor-latin%3B%0A%09mso-bidi-font-family%3A%22Times%20New%20Roman%22%3B%0A%09mso-bidi-theme-font%3Aminor-bidi%3B%7D%0A%20%2F*%20Page%20Definitions%20*%2F%0A%40page%0A%09%7Bmso-footnote-numbering-restart%3Aeach-section%3B%7D%0A%40page%20WordSection1%0A%09%7Bsize%3A8.5in%2011.0in%3B%0A%09margin%3A1.0in%201.25in%201.0in%201.25in%3B%0A%09mso-header-margin%3A.5in%3B%0A%09mso-footer-margin%3A.5in%3B%0A%09mso-paper-source%3A0%3B%7D%0Adiv.WordSection1%0A%09%7Bpage%3AWordSection1%3B%7D%0A%2D%2D%3E--></style>\n<p align="center" class="BasicParagraph" style="text-align:center">\n	USCB Center for the Arts invites you to audition for the WHO KNEW TALENT REVUE on Wednesday\, May 30.<span style="mso-spacerun:yes">&nbsp\;&nbsp\; </span>5:30 <sup>PM </sup>- Vocalists</p>\n<p align="center" class="BasicParagraph" style="text-align:center">\n	7:00 <sup>PM </sup><span style="mso-spacerun:yes">&nbsp\;</span>- Dancers\, etc.<span style="mso-spacerun:yes">&nbsp\; </span></p>\n<p align="center" class="BasicParagraph" style="text-align:center">\n	8:30<sup> PM </sup><span style="mso-spacerun:yes">&nbsp\;&nbsp\;</span>- Bands</p>\n<p align="center" class="BasicParagraph" style="text-align:center">\n	&nbsp\;</p>\n<p align="center" class="BasicParagraph" style="text-align:center">\n	Non returnable photo and resume helpful if available.</p>\n<p align="center" class="BasicParagraph" style="text-align:center">\n	Ages 16 and older<span style="mso-tab-count:1">&nbsp\;&nbsp\;&nbsp\;&nbsp\;&nbsp\;&nbsp\; </span></p>\n<p align="center" class="BasicParagraph" style="text-align:center">\n	Vocalist: If you need an accompanist one will be provided.</p>\n<p align="center" class="BasicParagraph" style="text-align:center">\n	Bring two copies of sheet music or bring background music CD</p>\n<p align="center" class="BasicParagraph" style="text-align:center">\n	IN YOUR KEY\, please. Three minute time limit.</p>\n<p align="center" class="BasicParagraph" style="text-align:center">\n	<span style="mso-tab-count:2">&nbsp\;&nbsp\;&nbsp\;&nbsp\;&nbsp\;&nbsp\;&nbsp\;&nbsp\;&nbsp\;&nbsp\;&nbsp\;&nbsp\;&nbsp\;&nbsp\;&nbsp\;&nbsp\;&nbsp\;&nbsp\;&nbsp\;&nbsp\;&nbsp\;&nbsp\;&nbsp\; </span>Be prepared to sing on stage with the microphone.</p>\n<p align="center" class="BasicParagraph" style="text-align:center">\n	&nbsp\;</p>\n<p align="center" class="BasicParagraph" style="text-align:center">\n	Bands:<span style="mso-spacerun:yes">&nbsp\; </span>Keyboard and Drums provided for auditions.</p>\n<p align="center" class="BasicParagraph" style="text-align:center">\n	Prepare two contrasting songs or send CD and band vocalist</p>\n<p align="center" class="BasicParagraph" style="text-align:center">\n	(limited to 15 minutes setup and performance) Reservations required for your</p>\n<p align="center" class="BasicParagraph" style="text-align:center">\n	<span style="mso-spacerun:yes">&nbsp\;</span>audition time!<span style="mso-spacerun:yes">&nbsp\; </span></p>\n<p align="center" class="BasicParagraph" style="text-align:center">\n	Call 521-4145 to schedule.</p>\n<p align="center" class="BasicParagraph" style="text-align:center">\n	<b><i><span style="font-family:MinionPro-BoldIt\;mso-bidi-font-family:MinionPro-BoldIt">Who Knew Talent Revue</span></i></b></p>\n<p align="center" class="BasicParagraph" style="text-align:center">\n	<b><i><span style="font-family:MinionPro-BoldIt\;mso-bidi-font-family:MinionPro-BoldIt">August 5-7\, 2012 </span></i></b></p>\n<p align="center" class="BasicParagraph" style="text-align:center">\n	<b><i><span style="font-family:MinionPro-BoldIt\;mso-bidi-font-family:MinionPro-BoldIt">USCB Center for the Arts </span></i></b></p>\n<p class="MsoNormal">\n	<span style="font-size:14.0pt">&nbsp\;</span></p>\n
LOCATION:USCB CENTER FOR THE ARTS 801 Carteret Street\, Beaufort SC 29902
UID:e.1212.4526
SEQUENCE:3
DTSTAMP:20260422T222010Z
URL:http://business.beaufortchamber.org/events/details/who-knew-talent-revue-auditions-05-30-2012-4526
END:VEVENT

END:VCALENDAR
