BEGIN:VCALENDAR
VERSION:2.0
PRODID:-//ChamberMaster//Event Calendar 2.0//EN
METHOD:PUBLISH
X-PUBLISHED-TTL:P3D
REFRESH-INTERVAL:P3D
CALSCALE:GREGORIAN
BEGIN:VEVENT
DTSTART;VALUE=DATE:20090724
DTEND;VALUE=DATE:20090725
TRANSP:TRANSPARENT
X-MICROSOFT-CDO-ALLDAYEVENT:TRUE
SUMMARY:Wildy Memorial Garden Dedication Ceremony
DESCRIPTION:The garden stands on the site of former Wildly Memorial Gymtorium\, built in 1961 on the historic Mather School.  The ceremony includes messages from Councilwoman\, Donnie Beer\, TCL President\, Tom Leitzel\, National Mather Alumni Association President Natalie Reid Mallory and Coast/Lowcountry Alumni & Association Chapter President\, Irene Hicks.  This event will conclude outdoors with the unveiling of the newly constructed Wildy Memorial.  Mather alumni and their guests interested in attending are asked to RSVP.
X-ALT-DESC;FMTTYPE=text/html:The garden stands on the site of former Wildly Memorial Gymtorium\, built in 1961 on the historic Mather School.  The ceremony includes messages from Councilwoman\, Donnie Beer\, TCL President\, Tom Leitzel\, National Mather Alumni Association President Natalie Reid Mallory and Coast/Lowcountry Alumni & Association Chapter President\, Irene Hicks.  This event will conclude outdoors with the unveiling of the newly constructed Wildy Memorial.  Mather alumni and their guests interested in attending are asked to RSVP.
LOCATION:
UID:e.1212.3407
SEQUENCE:3
DTSTAMP:20260425T024951Z
URL:http://business.beaufortchamber.org/events/details/wildy-memorial-garden-dedication-ceremony-07-24-2009-3407
END:VEVENT

END:VCALENDAR
