BEGIN:VCALENDAR
VERSION:2.0
PRODID:-//ChamberMaster//Event Calendar 2.0//EN
METHOD:PUBLISH
X-PUBLISHED-TTL:P3D
REFRESH-INTERVAL:P3D
CALSCALE:GREGORIAN
BEGIN:VEVENT
DTSTART:20130407T163000Z
DTEND:20130407T190000Z
X-MICROSOFT-CDO-ALLDAYEVENT:FALSE
SUMMARY:Wine Tasting benefitting March of Dimes
DESCRIPTION:A 100% event benefiting the March of Dimes.  Sponsored by Coldwell Banker Platinum Partners\, Emily's Restaurant and Tapas Bar and Southern Wine and Spirits.  Tickets are $25.  There will also be heavy H'ordeorves.\n\n\n\nSilent and live auction items.\n\n\n\nTickets can be purchased at Emily's\, 906 Port Republic Street or at Coldwell Banker Platinum Partners\, 1211 Boundary Street or call 843.986.2444 for more information.
X-ALT-DESC;FMTTYPE=text/html:A 100% event benefiting the March of Dimes.&nbsp\; Sponsored by Coldwell Banker Platinum Partners\, Emily&#39\;s Restaurant and Tapas Bar and Southern Wine and Spirits.&nbsp\; Tickets are $25.&nbsp\; There will also be heavy H&#39\;ordeorves.<br />\n<br />\nSilent and live auction items.<br />\n<br />\nTickets can be purchased at Emily&#39\;s\, 906 Port Republic Street or at Coldwell Banker Platinum Partners\, 1211 Boundary Street or call 843.986.2444 for more information.
LOCATION:Emily's Restaurant\, 906 Port Republic Street\, Beaufort
UID:e.1212.4774
SEQUENCE:3
DTSTAMP:20260422T051006Z
URL:http://business.beaufortchamber.org/events/details/wine-tasting-benefitting-march-of-dimes-04-07-2013-4774
END:VEVENT

END:VCALENDAR
