BEGIN:VCALENDAR
VERSION:2.0
PRODID:-//ChamberMaster//Event Calendar 2.0//EN
METHOD:PUBLISH
X-PUBLISHED-TTL:P3D
REFRESH-INTERVAL:P3D
CALSCALE:GREGORIAN
BEGIN:VEVENT
DTSTART:20121003T220000Z
DTEND:20121004T000000Z
X-MICROSOFT-CDO-ALLDAYEVENT:FALSE
SUMMARY:Wine Wednesday at Rose Hill Mansion
DESCRIPTION:Rose Hill Mansion launches Wine Wednesday!!! October 3rd from 6pm-8pm. Enjoy live entertainment\, Rose Hill's private labeled wine paired with hors d' oeuvres\, all in 5 different rooms of the mansion! $35 per person and everyone is invited! We are filling up fast so call us at 843-757-6046 or email tracey@rosehillmansion.com to RSVP Tickets can be purchased over the phone or via email. Reservations are required. Don't miss out on your chance to tour the Rose Hill Mansion and sample some great food and wine!!
X-ALT-DESC;FMTTYPE=text/html:<span style="background: white"><span style="color: #333333"><span style="font-family: arial\, sans-serif"><span style="font-size: medium">Rose Hill Mansion launches Wine Wednesday!!! October 3rd from 6pm-8pm. Enjoy live entertainment\, Rose Hill&#39\;s private labeled wine paired with hors d&#39\; oeuvres\, all in 5 different rooms of the mansion! $35 per person and everyone is invited! We are filling up fast so call us at 843-757-6046 or email tracey@rosehillmansion.com to RSVP Tickets can be purchased over the phone or via email. Reservations are required. Don&#39\;t miss out on your chance to tour the Rose Hill Mansion and sample some great food and wine!!&nbsp\;&nbsp\;</span></span></span></span><br />\n
LOCATION:Rose Hill Mansion\, Bluffton\, SC
UID:e.1212.4617
SEQUENCE:3
DTSTAMP:20260422T150915Z
URL:http://business.beaufortchamber.org/events/details/wine-wednesday-at-rose-hill-mansion-10-03-2012-4617
END:VEVENT

END:VCALENDAR
