BEGIN:VCALENDAR
VERSION:2.0
PRODID:-//ChamberMaster//Event Calendar 2.0//EN
METHOD:PUBLISH
X-PUBLISHED-TTL:P3D
REFRESH-INTERVAL:P3D
CALSCALE:GREGORIAN
BEGIN:VEVENT
DTSTART:20130505T213000Z
DTEND:20130506T010000Z
X-MICROSOFT-CDO-ALLDAYEVENT:FALSE
SUMMARY:Yacht Hop of Hilton Head Island
DESCRIPTION:The Sea Pines Resort cordially invites you to the Ninth Annual Yacht Hop of Hilton Head Island to benefit Hospice Care of the Lowcountry\n\n\n\nPrivate Yachts\, Gourmet Tapas by Local Chefs\, Music by The Headliners\, Live & Silent Auctions\, Dessert & Champagne Toast\, Valet Parking Provided\n\n\n\nIsland Casual Attire\, Boat Shoes or Flip Flops\n\n\n\n$100 per person\, Reservations Required - 843.706.2296
X-ALT-DESC;FMTTYPE=text/html:The Sea Pines Resort cordially invites you to the Ninth Annual Yacht Hop of Hilton Head Island to benefit Hospice Care of the Lowcountry<br />\n<br />\nPrivate Yachts\, Gourmet Tapas by Local Chefs\, Music by The Headliners\, Live &amp\; Silent Auctions\, Dessert &amp\; Champagne Toast\, Valet Parking Provided<br />\n<br />\nIsland Casual Attire\, Boat Shoes or Flip Flops<br />\n<br />\n$100 per person\, Reservations Required - 843.706.2296<br />\n<br />\n
LOCATION:Harbour Town Yacht Basin in The Sea Pines Resort\, Hilton Head Island
UID:e.1212.4958
SEQUENCE:3
DTSTAMP:20260422T032556Z
URL:http://business.beaufortchamber.org/events/details/yacht-hop-of-hilton-head-island-05-05-2013-4958
END:VEVENT

END:VCALENDAR
